BEGIN:VCALENDAR
VERSION:2.0
PRODID:-//Brookline Baptist Church - ECPv6.15.20//NONSGML v1.0//EN
CALSCALE:GREGORIAN
METHOD:PUBLISH
X-ORIGINAL-URL:https://brooklinebaptist.church
X-WR-CALDESC:Events for Brookline Baptist Church
REFRESH-INTERVAL;VALUE=DURATION:PT1H
X-Robots-Tag:noindex
X-PUBLISHED-TTL:PT1H
BEGIN:VTIMEZONE
TZID:America/Chicago
BEGIN:DAYLIGHT
TZOFFSETFROM:-0600
TZOFFSETTO:-0500
TZNAME:CDT
DTSTART:20240310T080000
END:DAYLIGHT
BEGIN:STANDARD
TZOFFSETFROM:-0500
TZOFFSETTO:-0600
TZNAME:CST
DTSTART:20241103T070000
END:STANDARD
BEGIN:DAYLIGHT
TZOFFSETFROM:-0600
TZOFFSETTO:-0500
TZNAME:CDT
DTSTART:20250309T080000
END:DAYLIGHT
BEGIN:STANDARD
TZOFFSETFROM:-0500
TZOFFSETTO:-0600
TZNAME:CST
DTSTART:20251102T070000
END:STANDARD
BEGIN:DAYLIGHT
TZOFFSETFROM:-0600
TZOFFSETTO:-0500
TZNAME:CDT
DTSTART:20260308T080000
END:DAYLIGHT
BEGIN:STANDARD
TZOFFSETFROM:-0500
TZOFFSETTO:-0600
TZNAME:CST
DTSTART:20261101T070000
END:STANDARD
END:VTIMEZONE
BEGIN:VEVENT
DTSTART;VALUE=DATE:20250420
DTEND;VALUE=DATE:20250421
DTSTAMP:20260425T180313
CREATED:20241212T003901Z
LAST-MODIFIED:20241212T004002Z
UID:10001442-1745107200-1745193599@brooklinebaptist.church
SUMMARY:No Evening Worship
DESCRIPTION:
URL:https://brooklinebaptist.church/event/evening-worship-22/
END:VEVENT
BEGIN:VEVENT
DTSTART;VALUE=DATE:20250420
DTEND;VALUE=DATE:20250421
DTSTAMP:20260425T180313
CREATED:20241212T004854Z
LAST-MODIFIED:20241212T004854Z
UID:10003008-1745107200-1745193599@brooklinebaptist.church
SUMMARY:Easter Sunday
DESCRIPTION:
URL:https://brooklinebaptist.church/event/easter-sunday-3/
END:VEVENT
BEGIN:VEVENT
DTSTART;TZID=America/Chicago:20250420T090000
DTEND;TZID=America/Chicago:20250420T100000
DTSTAMP:20260425T180313
CREATED:20230126T211202Z
LAST-MODIFIED:20230126T214753Z
UID:10000118-1745139600-1745143200@brooklinebaptist.church
SUMMARY:Sunday School
DESCRIPTION:
URL:https://brooklinebaptist.church/event/school/2025-04-20/
END:VEVENT
BEGIN:VEVENT
DTSTART;TZID=America/Chicago:20250420T101500
DTEND;TZID=America/Chicago:20250420T113000
DTSTAMP:20260425T180313
CREATED:20230126T213431Z
LAST-MODIFIED:20230126T213431Z
UID:10000379-1745144100-1745148600@brooklinebaptist.church
SUMMARY:Morning Worship
DESCRIPTION:
URL:https://brooklinebaptist.church/event/morning-worship/2025-04-20/
END:VEVENT
END:VCALENDAR