BEGIN:VCALENDAR
VERSION:2.0
PRODID:-//Brookline Baptist Church - ECPv6.15.20//NONSGML v1.0//EN
CALSCALE:GREGORIAN
METHOD:PUBLISH
X-WR-CALNAME:Brookline Baptist Church
X-ORIGINAL-URL:https://brooklinebaptist.church
X-WR-CALDESC:Events for Brookline Baptist Church
REFRESH-INTERVAL;VALUE=DURATION:PT1H
X-Robots-Tag:noindex
X-PUBLISHED-TTL:PT1H
BEGIN:VTIMEZONE
TZID:America/Chicago
BEGIN:DAYLIGHT
TZOFFSETFROM:-0600
TZOFFSETTO:-0500
TZNAME:CDT
DTSTART:20240310T080000
END:DAYLIGHT
BEGIN:STANDARD
TZOFFSETFROM:-0500
TZOFFSETTO:-0600
TZNAME:CST
DTSTART:20241103T070000
END:STANDARD
BEGIN:DAYLIGHT
TZOFFSETFROM:-0600
TZOFFSETTO:-0500
TZNAME:CDT
DTSTART:20250309T080000
END:DAYLIGHT
BEGIN:STANDARD
TZOFFSETFROM:-0500
TZOFFSETTO:-0600
TZNAME:CST
DTSTART:20251102T070000
END:STANDARD
BEGIN:DAYLIGHT
TZOFFSETFROM:-0600
TZOFFSETTO:-0500
TZNAME:CDT
DTSTART:20260308T080000
END:DAYLIGHT
BEGIN:STANDARD
TZOFFSETFROM:-0500
TZOFFSETTO:-0600
TZNAME:CST
DTSTART:20261101T070000
END:STANDARD
END:VTIMEZONE
BEGIN:VEVENT
DTSTART;TZID=America/Chicago:20250427T170000
DTEND;TZID=America/Chicago:20250427T180000
DTSTAMP:20260421T023936
CREATED:20241218T151340Z
LAST-MODIFIED:20241218T151340Z
UID:10003039-1745773200-1745776800@brooklinebaptist.church
SUMMARY:Evening Worship
DESCRIPTION:
URL:https://brooklinebaptist.church/event/evening-worship-27/
END:VEVENT
BEGIN:VEVENT
DTSTART;TZID=America/Chicago:20250427T101500
DTEND;TZID=America/Chicago:20250427T113000
DTSTAMP:20260421T023936
CREATED:20230126T213431Z
LAST-MODIFIED:20230126T213431Z
UID:10000380-1745748900-1745753400@brooklinebaptist.church
SUMMARY:Morning Worship
DESCRIPTION:
URL:https://brooklinebaptist.church/event/morning-worship/2025-04-27/
END:VEVENT
BEGIN:VEVENT
DTSTART;TZID=America/Chicago:20250427T090000
DTEND;TZID=America/Chicago:20250427T100000
DTSTAMP:20260421T023936
CREATED:20230126T211202Z
LAST-MODIFIED:20230126T214753Z
UID:10000119-1745744400-1745748000@brooklinebaptist.church
SUMMARY:Sunday School
DESCRIPTION:
URL:https://brooklinebaptist.church/event/school/2025-04-27/
END:VEVENT
BEGIN:VEVENT
DTSTART;TZID=America/Chicago:20250423T183000
DTEND;TZID=America/Chicago:20250423T200000
DTSTAMP:20260421T023936
CREATED:20241211T174938Z
LAST-MODIFIED:20241211T174938Z
UID:10002990-1745433000-1745438400@brooklinebaptist.church
SUMMARY:AWANA 6:30 PM
DESCRIPTION:Meal served at 5:45 PM
URL:https://brooklinebaptist.church/event/awana-630-pm-4/2025-04-23/
END:VEVENT
BEGIN:VEVENT
DTSTART;TZID=America/Chicago:20250421T190000
DTEND;TZID=America/Chicago:20250421T200000
DTSTAMP:20260421T023936
CREATED:20240918T162128Z
LAST-MODIFIED:20240918T162128Z
UID:10002549-1745262000-1745265600@brooklinebaptist.church
SUMMARY:Men's Bible Study
DESCRIPTION:
URL:https://brooklinebaptist.church/event/mens-bible-study-2/2025-04-21/
END:VEVENT
BEGIN:VEVENT
DTSTART;TZID=America/Chicago:20250420T101500
DTEND;TZID=America/Chicago:20250420T113000
DTSTAMP:20260421T023936
CREATED:20230126T213431Z
LAST-MODIFIED:20230126T213431Z
UID:10000379-1745144100-1745148600@brooklinebaptist.church
SUMMARY:Morning Worship
DESCRIPTION:
URL:https://brooklinebaptist.church/event/morning-worship/2025-04-20/
END:VEVENT
BEGIN:VEVENT
DTSTART;TZID=America/Chicago:20250420T090000
DTEND;TZID=America/Chicago:20250420T100000
DTSTAMP:20260421T023936
CREATED:20230126T211202Z
LAST-MODIFIED:20230126T214753Z
UID:10000118-1745139600-1745143200@brooklinebaptist.church
SUMMARY:Sunday School
DESCRIPTION:
URL:https://brooklinebaptist.church/event/school/2025-04-20/
END:VEVENT
BEGIN:VEVENT
DTSTART;VALUE=DATE:20250420
DTEND;VALUE=DATE:20250421
DTSTAMP:20260421T023936
CREATED:20241212T004854Z
LAST-MODIFIED:20241212T004854Z
UID:10003008-1745107200-1745193599@brooklinebaptist.church
SUMMARY:Easter Sunday
DESCRIPTION:
URL:https://brooklinebaptist.church/event/easter-sunday-3/
END:VEVENT
BEGIN:VEVENT
DTSTART;VALUE=DATE:20250420
DTEND;VALUE=DATE:20250421
DTSTAMP:20260421T023936
CREATED:20241212T003901Z
LAST-MODIFIED:20241212T004002Z
UID:10001442-1745107200-1745193599@brooklinebaptist.church
SUMMARY:No Evening Worship
DESCRIPTION:
URL:https://brooklinebaptist.church/event/evening-worship-22/
END:VEVENT
BEGIN:VEVENT
DTSTART;TZID=America/Chicago:20250416T183000
DTEND;TZID=America/Chicago:20250416T200000
DTSTAMP:20260421T023936
CREATED:20241211T174938Z
LAST-MODIFIED:20241211T174938Z
UID:10002989-1744828200-1744833600@brooklinebaptist.church
SUMMARY:AWANA 6:30 PM
DESCRIPTION:Meal served at 5:45 PM
URL:https://brooklinebaptist.church/event/awana-630-pm-4/2025-04-16/
END:VEVENT
BEGIN:VEVENT
DTSTART;TZID=America/Chicago:20250414T190000
DTEND;TZID=America/Chicago:20250414T200000
DTSTAMP:20260421T023936
CREATED:20240918T162128Z
LAST-MODIFIED:20240918T162128Z
UID:10002548-1744657200-1744660800@brooklinebaptist.church
SUMMARY:Men's Bible Study
DESCRIPTION:
URL:https://brooklinebaptist.church/event/mens-bible-study-2/2025-04-14/
END:VEVENT
BEGIN:VEVENT
DTSTART;TZID=America/Chicago:20250413T140000
DTEND;TZID=America/Chicago:20250413T150000
DTSTAMP:20260421T023936
CREATED:20240919T165435Z
LAST-MODIFIED:20240919T165435Z
UID:10002560-1744552800-1744556400@brooklinebaptist.church
SUMMARY:Republic Nursing Home Ministry
DESCRIPTION:
URL:https://brooklinebaptist.church/event/republic-nursing-home-ministry-2/2025-04-13/
END:VEVENT
BEGIN:VEVENT
DTSTART;TZID=America/Chicago:20250413T101500
DTEND;TZID=America/Chicago:20250413T113000
DTSTAMP:20260421T023936
CREATED:20230126T213431Z
LAST-MODIFIED:20230126T213431Z
UID:10000378-1744539300-1744543800@brooklinebaptist.church
SUMMARY:Morning Worship
DESCRIPTION:
URL:https://brooklinebaptist.church/event/morning-worship/2025-04-13/
END:VEVENT
BEGIN:VEVENT
DTSTART;TZID=America/Chicago:20250413T090000
DTEND;TZID=America/Chicago:20250413T100000
DTSTAMP:20260421T023936
CREATED:20230126T211202Z
LAST-MODIFIED:20230126T214753Z
UID:10000117-1744534800-1744538400@brooklinebaptist.church
SUMMARY:Sunday School
DESCRIPTION:
URL:https://brooklinebaptist.church/event/school/2025-04-13/
END:VEVENT
BEGIN:VEVENT
DTSTART;TZID=America/Chicago:20250412T090000
DTEND;TZID=America/Chicago:20250412T100000
DTSTAMP:20260421T023936
CREATED:20240711T171109Z
LAST-MODIFIED:20240711T171109Z
UID:10001900-1744448400-1744452000@brooklinebaptist.church
SUMMARY:Baptist Women
DESCRIPTION:Meeting second Saturday of the month from 9-10 AM  Praying for missions & Missionaries.  No food served.
URL:https://brooklinebaptist.church/event/baptist-women/2025-04-12/
END:VEVENT
BEGIN:VEVENT
DTSTART;TZID=America/Chicago:20250409T183000
DTEND;TZID=America/Chicago:20250409T200000
DTSTAMP:20260421T023936
CREATED:20241211T174938Z
LAST-MODIFIED:20241211T174938Z
UID:10002988-1744223400-1744228800@brooklinebaptist.church
SUMMARY:AWANA 6:30 PM
DESCRIPTION:Meal served at 5:45 PM
URL:https://brooklinebaptist.church/event/awana-630-pm-4/2025-04-09/
END:VEVENT
BEGIN:VEVENT
DTSTART;TZID=America/Chicago:20250407T190000
DTEND;TZID=America/Chicago:20250407T200000
DTSTAMP:20260421T023936
CREATED:20240918T162128Z
LAST-MODIFIED:20240918T162128Z
UID:10002547-1744052400-1744056000@brooklinebaptist.church
SUMMARY:Men's Bible Study
DESCRIPTION:
URL:https://brooklinebaptist.church/event/mens-bible-study-2/2025-04-07/
END:VEVENT
BEGIN:VEVENT
DTSTART;TZID=America/Chicago:20250406T101500
DTEND;TZID=America/Chicago:20250406T113000
DTSTAMP:20260421T023936
CREATED:20230126T213431Z
LAST-MODIFIED:20230126T213431Z
UID:10000377-1743934500-1743939000@brooklinebaptist.church
SUMMARY:Morning Worship
DESCRIPTION:
URL:https://brooklinebaptist.church/event/morning-worship/2025-04-06/
END:VEVENT
BEGIN:VEVENT
DTSTART;TZID=America/Chicago:20250406T090000
DTEND;TZID=America/Chicago:20250406T100000
DTSTAMP:20260421T023936
CREATED:20230126T211202Z
LAST-MODIFIED:20230126T214753Z
UID:10000116-1743930000-1743933600@brooklinebaptist.church
SUMMARY:Sunday School
DESCRIPTION:
URL:https://brooklinebaptist.church/event/school/2025-04-06/
END:VEVENT
BEGIN:VEVENT
DTSTART;TZID=America/Chicago:20250405T100000
DTEND;TZID=America/Chicago:20250405T140000
DTSTAMP:20260421T023936
CREATED:20241218T175033Z
LAST-MODIFIED:20241218T175033Z
UID:10003099-1743847200-1743861600@brooklinebaptist.church
SUMMARY:Crafty Sisters
DESCRIPTION:Sewing\, embroidery\, cross stitch\, painting\, knitting\, scrap booking\, craft of your choice\, bring your project\, supplies and a sack lunch and join us.
URL:https://brooklinebaptist.church/event/crafty-sisters/2025-04-05/
END:VEVENT
BEGIN:VEVENT
DTSTART;TZID=America/Chicago:20250405T080000
DTEND;TZID=America/Chicago:20250405T090000
DTSTAMP:20260421T023936
CREATED:20240104T171227Z
LAST-MODIFIED:20240104T171228Z
UID:10000871-1743840000-1743843600@brooklinebaptist.church
SUMMARY:Men & Boys Breakfast
DESCRIPTION:Meeting in Family Life Center
URL:https://brooklinebaptist.church/event/men-boys-breakfast-11/2025-04-05/
END:VEVENT
BEGIN:VEVENT
DTSTART;TZID=America/Chicago:20250402T183000
DTEND;TZID=America/Chicago:20250402T200000
DTSTAMP:20260421T023936
CREATED:20241211T174938Z
LAST-MODIFIED:20241211T174938Z
UID:10002987-1743618600-1743624000@brooklinebaptist.church
SUMMARY:AWANA 6:30 PM
DESCRIPTION:Meal served at 5:45 PM
URL:https://brooklinebaptist.church/event/awana-630-pm-4/2025-04-02/
END:VEVENT
BEGIN:VEVENT
DTSTART;TZID=America/Chicago:20250331T190000
DTEND;TZID=America/Chicago:20250331T200000
DTSTAMP:20260421T023936
CREATED:20240918T162128Z
LAST-MODIFIED:20240918T162128Z
UID:10002546-1743447600-1743451200@brooklinebaptist.church
SUMMARY:Men's Bible Study
DESCRIPTION:
URL:https://brooklinebaptist.church/event/mens-bible-study-2/2025-03-31/
END:VEVENT
BEGIN:VEVENT
DTSTART;TZID=America/Chicago:20250330T170000
DTEND;TZID=America/Chicago:20250330T180000
DTSTAMP:20260421T023936
CREATED:20241218T150901Z
LAST-MODIFIED:20241218T150901Z
UID:10003035-1743354000-1743357600@brooklinebaptist.church
SUMMARY:Evening Worship
DESCRIPTION:
URL:https://brooklinebaptist.church/event/evening-worship/2025-03-30/
END:VEVENT
BEGIN:VEVENT
DTSTART;TZID=America/Chicago:20250330T101500
DTEND;TZID=America/Chicago:20250330T113000
DTSTAMP:20260421T023936
CREATED:20230126T213431Z
LAST-MODIFIED:20230126T213431Z
UID:10000376-1743329700-1743334200@brooklinebaptist.church
SUMMARY:Morning Worship
DESCRIPTION:
URL:https://brooklinebaptist.church/event/morning-worship/2025-03-30/
END:VEVENT
BEGIN:VEVENT
DTSTART;TZID=America/Chicago:20250330T090000
DTEND;TZID=America/Chicago:20250330T100000
DTSTAMP:20260421T023936
CREATED:20230126T211202Z
LAST-MODIFIED:20230126T214753Z
UID:10000115-1743325200-1743328800@brooklinebaptist.church
SUMMARY:Sunday School
DESCRIPTION:
URL:https://brooklinebaptist.church/event/school/2025-03-30/
END:VEVENT
BEGIN:VEVENT
DTSTART;TZID=America/Chicago:20250326T183000
DTEND;TZID=America/Chicago:20250326T200000
DTSTAMP:20260421T023936
CREATED:20241211T174938Z
LAST-MODIFIED:20241211T174938Z
UID:10002986-1743013800-1743019200@brooklinebaptist.church
SUMMARY:AWANA 6:30 PM
DESCRIPTION:Meal served at 5:45 PM
URL:https://brooklinebaptist.church/event/awana-630-pm-4/2025-03-26/
END:VEVENT
BEGIN:VEVENT
DTSTART;TZID=America/Chicago:20250324T190000
DTEND;TZID=America/Chicago:20250324T200000
DTSTAMP:20260421T023936
CREATED:20240918T162128Z
LAST-MODIFIED:20240918T162128Z
UID:10002545-1742842800-1742846400@brooklinebaptist.church
SUMMARY:Men's Bible Study
DESCRIPTION:
URL:https://brooklinebaptist.church/event/mens-bible-study-2/2025-03-24/
END:VEVENT
BEGIN:VEVENT
DTSTART;TZID=America/Chicago:20250323T170000
DTEND;TZID=America/Chicago:20250323T180000
DTSTAMP:20260421T023936
CREATED:20241218T150901Z
LAST-MODIFIED:20241218T150901Z
UID:10003034-1742749200-1742752800@brooklinebaptist.church
SUMMARY:Evening Worship
DESCRIPTION:
URL:https://brooklinebaptist.church/event/evening-worship/2025-03-23/
END:VEVENT
BEGIN:VEVENT
DTSTART;TZID=America/Chicago:20250323T101500
DTEND;TZID=America/Chicago:20250323T113000
DTSTAMP:20260421T023936
CREATED:20230126T213431Z
LAST-MODIFIED:20230126T213431Z
UID:10000375-1742724900-1742729400@brooklinebaptist.church
SUMMARY:Morning Worship
DESCRIPTION:
URL:https://brooklinebaptist.church/event/morning-worship/2025-03-23/
END:VEVENT
END:VCALENDAR