BEGIN:VCALENDAR
VERSION:2.0
PRODID:-//Brookline Baptist Church - ECPv6.15.20//NONSGML v1.0//EN
CALSCALE:GREGORIAN
METHOD:PUBLISH
X-WR-CALNAME:Brookline Baptist Church
X-ORIGINAL-URL:https://brooklinebaptist.church
X-WR-CALDESC:Events for Brookline Baptist Church
REFRESH-INTERVAL;VALUE=DURATION:PT1H
X-Robots-Tag:noindex
X-PUBLISHED-TTL:PT1H
BEGIN:VTIMEZONE
TZID:America/Chicago
BEGIN:DAYLIGHT
TZOFFSETFROM:-0600
TZOFFSETTO:-0500
TZNAME:CDT
DTSTART:20240310T080000
END:DAYLIGHT
BEGIN:STANDARD
TZOFFSETFROM:-0500
TZOFFSETTO:-0600
TZNAME:CST
DTSTART:20241103T070000
END:STANDARD
BEGIN:DAYLIGHT
TZOFFSETFROM:-0600
TZOFFSETTO:-0500
TZNAME:CDT
DTSTART:20250309T080000
END:DAYLIGHT
BEGIN:STANDARD
TZOFFSETFROM:-0500
TZOFFSETTO:-0600
TZNAME:CST
DTSTART:20251102T070000
END:STANDARD
BEGIN:DAYLIGHT
TZOFFSETFROM:-0600
TZOFFSETTO:-0500
TZNAME:CDT
DTSTART:20260308T080000
END:DAYLIGHT
BEGIN:STANDARD
TZOFFSETFROM:-0500
TZOFFSETTO:-0600
TZNAME:CST
DTSTART:20261101T070000
END:STANDARD
END:VTIMEZONE
BEGIN:VEVENT
DTSTART;VALUE=DATE:20250319
DTEND;VALUE=DATE:20250320
DTSTAMP:20260422T122934
CREATED:20241210T180124Z
LAST-MODIFIED:20241210T180124Z
UID:10002953-1742342400-1742428799@brooklinebaptist.church
SUMMARY:No AWANA--Spring Break
DESCRIPTION:
URL:https://brooklinebaptist.church/event/no-awana-spring-break-2/
END:VEVENT
BEGIN:VEVENT
DTSTART;TZID=America/Chicago:20250317T190000
DTEND;TZID=America/Chicago:20250317T200000
DTSTAMP:20260422T122934
CREATED:20240918T162128Z
LAST-MODIFIED:20240918T162128Z
UID:10002544-1742238000-1742241600@brooklinebaptist.church
SUMMARY:Men's Bible Study
DESCRIPTION:
URL:https://brooklinebaptist.church/event/mens-bible-study-2/2025-03-17/
END:VEVENT
BEGIN:VEVENT
DTSTART;TZID=America/Chicago:20250316T101500
DTEND;TZID=America/Chicago:20250316T113000
DTSTAMP:20260422T122934
CREATED:20230126T213431Z
LAST-MODIFIED:20230126T213431Z
UID:10000374-1742120100-1742124600@brooklinebaptist.church
SUMMARY:Morning Worship
DESCRIPTION:
URL:https://brooklinebaptist.church/event/morning-worship/2025-03-16/
END:VEVENT
BEGIN:VEVENT
DTSTART;TZID=America/Chicago:20250316T090000
DTEND;TZID=America/Chicago:20250316T100000
DTSTAMP:20260422T122934
CREATED:20230126T211202Z
LAST-MODIFIED:20230126T214753Z
UID:10000113-1742115600-1742119200@brooklinebaptist.church
SUMMARY:Sunday School
DESCRIPTION:
URL:https://brooklinebaptist.church/event/school/2025-03-16/
END:VEVENT
BEGIN:VEVENT
DTSTART;TZID=America/Chicago:20250312T183000
DTEND;TZID=America/Chicago:20250312T200000
DTSTAMP:20260422T122934
CREATED:20241210T175956Z
LAST-MODIFIED:20241210T175956Z
UID:10002952-1741804200-1741809600@brooklinebaptist.church
SUMMARY:AWANA 6:30 PM
DESCRIPTION:Meal served at 5:45 PM
URL:https://brooklinebaptist.church/event/awana-630-pm-3/2025-03-12/
END:VEVENT
BEGIN:VEVENT
DTSTART;TZID=America/Chicago:20250310T190000
DTEND;TZID=America/Chicago:20250310T200000
DTSTAMP:20260422T122934
CREATED:20240918T162128Z
LAST-MODIFIED:20240918T162128Z
UID:10002543-1741633200-1741636800@brooklinebaptist.church
SUMMARY:Men's Bible Study
DESCRIPTION:
URL:https://brooklinebaptist.church/event/mens-bible-study-2/2025-03-10/
END:VEVENT
BEGIN:VEVENT
DTSTART;TZID=America/Chicago:20250309T140000
DTEND;TZID=America/Chicago:20250309T150000
DTSTAMP:20260422T122934
CREATED:20240919T165435Z
LAST-MODIFIED:20240919T165435Z
UID:10002559-1741528800-1741532400@brooklinebaptist.church
SUMMARY:Republic Nursing Home Ministry
DESCRIPTION:
URL:https://brooklinebaptist.church/event/republic-nursing-home-ministry-2/2025-03-09/
END:VEVENT
BEGIN:VEVENT
DTSTART;TZID=America/Chicago:20250309T101500
DTEND;TZID=America/Chicago:20250309T113000
DTSTAMP:20260422T122934
CREATED:20230126T213431Z
LAST-MODIFIED:20230126T213431Z
UID:10000373-1741515300-1741519800@brooklinebaptist.church
SUMMARY:Morning Worship
DESCRIPTION:
URL:https://brooklinebaptist.church/event/morning-worship/2025-03-09/
END:VEVENT
BEGIN:VEVENT
DTSTART;TZID=America/Chicago:20250309T090000
DTEND;TZID=America/Chicago:20250309T100000
DTSTAMP:20260422T122934
CREATED:20230126T211202Z
LAST-MODIFIED:20230126T214753Z
UID:10000112-1741510800-1741514400@brooklinebaptist.church
SUMMARY:Sunday School
DESCRIPTION:
URL:https://brooklinebaptist.church/event/school/2025-03-09/
END:VEVENT
BEGIN:VEVENT
DTSTART;VALUE=DATE:20250309
DTEND;VALUE=DATE:20250310
DTSTAMP:20260422T122934
CREATED:20241212T004728Z
LAST-MODIFIED:20241212T004728Z
UID:10003007-1741478400-1741564799@brooklinebaptist.church
SUMMARY:Daylight Savings Time Begins
DESCRIPTION:
URL:https://brooklinebaptist.church/event/daylight-savings-time-begins-2/
END:VEVENT
BEGIN:VEVENT
DTSTART;TZID=America/Chicago:20250308T090000
DTEND;TZID=America/Chicago:20250308T100000
DTSTAMP:20260422T122934
CREATED:20240711T171109Z
LAST-MODIFIED:20240711T171109Z
UID:10001899-1741424400-1741428000@brooklinebaptist.church
SUMMARY:Baptist Women
DESCRIPTION:Meeting second Saturday of the month from 9-10 AM  Praying for missions & Missionaries.  No food served.
URL:https://brooklinebaptist.church/event/baptist-women/2025-03-08/
END:VEVENT
BEGIN:VEVENT
DTSTART;TZID=America/Chicago:20250305T183000
DTEND;TZID=America/Chicago:20250305T200000
DTSTAMP:20260422T122934
CREATED:20241210T175956Z
LAST-MODIFIED:20241210T175956Z
UID:10002951-1741199400-1741204800@brooklinebaptist.church
SUMMARY:AWANA 6:30 PM
DESCRIPTION:Meal served at 5:45 PM
URL:https://brooklinebaptist.church/event/awana-630-pm-3/2025-03-05/
END:VEVENT
BEGIN:VEVENT
DTSTART;TZID=America/Chicago:20250303T190000
DTEND;TZID=America/Chicago:20250303T200000
DTSTAMP:20260422T122934
CREATED:20240918T162128Z
LAST-MODIFIED:20240918T162128Z
UID:10002542-1741028400-1741032000@brooklinebaptist.church
SUMMARY:Men's Bible Study
DESCRIPTION:
URL:https://brooklinebaptist.church/event/mens-bible-study-2/2025-03-03/
END:VEVENT
BEGIN:VEVENT
DTSTART;TZID=America/Chicago:20250302T101500
DTEND;TZID=America/Chicago:20250302T113000
DTSTAMP:20260422T122934
CREATED:20230126T213431Z
LAST-MODIFIED:20230126T213431Z
UID:10000372-1740910500-1740915000@brooklinebaptist.church
SUMMARY:Morning Worship
DESCRIPTION:
URL:https://brooklinebaptist.church/event/morning-worship/2025-03-02/
END:VEVENT
BEGIN:VEVENT
DTSTART;TZID=America/Chicago:20250302T090000
DTEND;TZID=America/Chicago:20250302T100000
DTSTAMP:20260422T122934
CREATED:20230126T211202Z
LAST-MODIFIED:20230126T214753Z
UID:10000111-1740906000-1740909600@brooklinebaptist.church
SUMMARY:Sunday School
DESCRIPTION:
URL:https://brooklinebaptist.church/event/school/2025-03-02/
END:VEVENT
BEGIN:VEVENT
DTSTART;TZID=America/Chicago:20250301T100000
DTEND;TZID=America/Chicago:20250301T140000
DTSTAMP:20260422T122934
CREATED:20241218T175033Z
LAST-MODIFIED:20241218T175033Z
UID:10003098-1740823200-1740837600@brooklinebaptist.church
SUMMARY:Crafty Sisters
DESCRIPTION:Sewing\, embroidery\, cross stitch\, painting\, knitting\, scrap booking\, craft of your choice\, bring your project\, supplies and a sack lunch and join us.
URL:https://brooklinebaptist.church/event/crafty-sisters/2025-03-01/
END:VEVENT
BEGIN:VEVENT
DTSTART;TZID=America/Chicago:20250301T080000
DTEND;TZID=America/Chicago:20250301T090000
DTSTAMP:20260422T122934
CREATED:20240104T171227Z
LAST-MODIFIED:20240104T171228Z
UID:10000870-1740816000-1740819600@brooklinebaptist.church
SUMMARY:Men & Boys Breakfast
DESCRIPTION:Meeting in Family Life Center
URL:https://brooklinebaptist.church/event/men-boys-breakfast-11/2025-03-01/
END:VEVENT
BEGIN:VEVENT
DTSTART;TZID=America/Chicago:20250226T183000
DTEND;TZID=America/Chicago:20250226T200000
DTSTAMP:20260422T122934
CREATED:20241210T175956Z
LAST-MODIFIED:20241210T175956Z
UID:10002950-1740594600-1740600000@brooklinebaptist.church
SUMMARY:AWANA 6:30 PM
DESCRIPTION:Meal served at 5:45 PM
URL:https://brooklinebaptist.church/event/awana-630-pm-3/2025-02-26/
END:VEVENT
BEGIN:VEVENT
DTSTART;TZID=America/Chicago:20250224T190000
DTEND;TZID=America/Chicago:20250224T200000
DTSTAMP:20260422T122934
CREATED:20240918T162128Z
LAST-MODIFIED:20240918T162128Z
UID:10002541-1740423600-1740427200@brooklinebaptist.church
SUMMARY:Men's Bible Study
DESCRIPTION:
URL:https://brooklinebaptist.church/event/mens-bible-study-2/2025-02-24/
END:VEVENT
BEGIN:VEVENT
DTSTART;TZID=America/Chicago:20250223T101500
DTEND;TZID=America/Chicago:20250223T113000
DTSTAMP:20260422T122934
CREATED:20230126T213431Z
LAST-MODIFIED:20230126T213431Z
UID:10000371-1740305700-1740310200@brooklinebaptist.church
SUMMARY:Morning Worship
DESCRIPTION:
URL:https://brooklinebaptist.church/event/morning-worship/2025-02-23/
END:VEVENT
BEGIN:VEVENT
DTSTART;TZID=America/Chicago:20250223T090000
DTEND;TZID=America/Chicago:20250223T100000
DTSTAMP:20260422T122934
CREATED:20230126T211202Z
LAST-MODIFIED:20230126T214753Z
UID:10000110-1740301200-1740304800@brooklinebaptist.church
SUMMARY:Sunday School
DESCRIPTION:
URL:https://brooklinebaptist.church/event/school/2025-02-23/
END:VEVENT
BEGIN:VEVENT
DTSTART;TZID=America/Chicago:20250219T183000
DTEND;TZID=America/Chicago:20250219T200000
DTSTAMP:20260422T122934
CREATED:20241210T175956Z
LAST-MODIFIED:20241210T175956Z
UID:10002949-1739989800-1739995200@brooklinebaptist.church
SUMMARY:AWANA 6:30 PM
DESCRIPTION:Meal served at 5:45 PM
URL:https://brooklinebaptist.church/event/awana-630-pm-3/2025-02-19/
END:VEVENT
BEGIN:VEVENT
DTSTART;TZID=America/Chicago:20250217T190000
DTEND;TZID=America/Chicago:20250217T200000
DTSTAMP:20260422T122934
CREATED:20240918T162128Z
LAST-MODIFIED:20240918T162128Z
UID:10002540-1739818800-1739822400@brooklinebaptist.church
SUMMARY:Men's Bible Study
DESCRIPTION:
URL:https://brooklinebaptist.church/event/mens-bible-study-2/2025-02-17/
END:VEVENT
BEGIN:VEVENT
DTSTART;TZID=America/Chicago:20250216T101500
DTEND;TZID=America/Chicago:20250216T113000
DTSTAMP:20260422T122934
CREATED:20230126T213431Z
LAST-MODIFIED:20230126T213431Z
UID:10000370-1739700900-1739705400@brooklinebaptist.church
SUMMARY:Morning Worship
DESCRIPTION:
URL:https://brooklinebaptist.church/event/morning-worship/2025-02-16/
END:VEVENT
BEGIN:VEVENT
DTSTART;TZID=America/Chicago:20250216T090000
DTEND;TZID=America/Chicago:20250216T100000
DTSTAMP:20260422T122934
CREATED:20230126T211202Z
LAST-MODIFIED:20230126T214753Z
UID:10000109-1739696400-1739700000@brooklinebaptist.church
SUMMARY:Sunday School
DESCRIPTION:
URL:https://brooklinebaptist.church/event/school/2025-02-16/
END:VEVENT
BEGIN:VEVENT
DTSTART;TZID=America/Chicago:20250212T183000
DTEND;TZID=America/Chicago:20250212T200000
DTSTAMP:20260422T122934
CREATED:20241210T175956Z
LAST-MODIFIED:20241210T175956Z
UID:10002948-1739385000-1739390400@brooklinebaptist.church
SUMMARY:AWANA 6:30 PM
DESCRIPTION:Meal served at 5:45 PM
URL:https://brooklinebaptist.church/event/awana-630-pm-3/2025-02-12/
END:VEVENT
BEGIN:VEVENT
DTSTART;TZID=America/Chicago:20250210T190000
DTEND;TZID=America/Chicago:20250210T200000
DTSTAMP:20260422T122934
CREATED:20240918T162128Z
LAST-MODIFIED:20240918T162128Z
UID:10002539-1739214000-1739217600@brooklinebaptist.church
SUMMARY:Men's Bible Study
DESCRIPTION:
URL:https://brooklinebaptist.church/event/mens-bible-study-2/2025-02-10/
END:VEVENT
BEGIN:VEVENT
DTSTART;TZID=America/Chicago:20250209T170000
DTEND;TZID=America/Chicago:20250209T180000
DTSTAMP:20260422T122934
CREATED:20241218T151016Z
LAST-MODIFIED:20241218T151016Z
UID:10003036-1739120400-1739124000@brooklinebaptist.church
SUMMARY:Evening Worship
DESCRIPTION:
URL:https://brooklinebaptist.church/event/evening-worship-26/
END:VEVENT
BEGIN:VEVENT
DTSTART;TZID=America/Chicago:20250209T140000
DTEND;TZID=America/Chicago:20250209T150000
DTSTAMP:20260422T122934
CREATED:20240919T165435Z
LAST-MODIFIED:20240919T165435Z
UID:10002558-1739109600-1739113200@brooklinebaptist.church
SUMMARY:Republic Nursing Home Ministry
DESCRIPTION:
URL:https://brooklinebaptist.church/event/republic-nursing-home-ministry-2/2025-02-09/
END:VEVENT
BEGIN:VEVENT
DTSTART;TZID=America/Chicago:20250209T101500
DTEND;TZID=America/Chicago:20250209T113000
DTSTAMP:20260422T122934
CREATED:20230126T213431Z
LAST-MODIFIED:20230126T213431Z
UID:10000369-1739096100-1739100600@brooklinebaptist.church
SUMMARY:Morning Worship
DESCRIPTION:
URL:https://brooklinebaptist.church/event/morning-worship/2025-02-09/
END:VEVENT
END:VCALENDAR