BEGIN:VCALENDAR
VERSION:2.0
PRODID:-//Brookline Baptist Church - ECPv6.15.20//NONSGML v1.0//EN
CALSCALE:GREGORIAN
METHOD:PUBLISH
X-ORIGINAL-URL:https://brooklinebaptist.church
X-WR-CALDESC:Events for Brookline Baptist Church
REFRESH-INTERVAL;VALUE=DURATION:PT1H
X-Robots-Tag:noindex
X-PUBLISHED-TTL:PT1H
BEGIN:VTIMEZONE
TZID:America/Chicago
BEGIN:DAYLIGHT
TZOFFSETFROM:-0600
TZOFFSETTO:-0500
TZNAME:CDT
DTSTART:20260308T080000
END:DAYLIGHT
BEGIN:STANDARD
TZOFFSETFROM:-0500
TZOFFSETTO:-0600
TZNAME:CST
DTSTART:20261101T070000
END:STANDARD
BEGIN:DAYLIGHT
TZOFFSETFROM:-0600
TZOFFSETTO:-0500
TZNAME:CDT
DTSTART:20270314T080000
END:DAYLIGHT
BEGIN:STANDARD
TZOFFSETFROM:-0500
TZOFFSETTO:-0600
TZNAME:CST
DTSTART:20271107T070000
END:STANDARD
BEGIN:DAYLIGHT
TZOFFSETFROM:-0600
TZOFFSETTO:-0500
TZNAME:CDT
DTSTART:20280312T080000
END:DAYLIGHT
BEGIN:STANDARD
TZOFFSETFROM:-0500
TZOFFSETTO:-0600
TZNAME:CST
DTSTART:20281105T070000
END:STANDARD
END:VTIMEZONE
BEGIN:VEVENT
DTSTART;TZID=America/Chicago:20270221T101500
DTEND;TZID=America/Chicago:20270221T113000
DTSTAMP:20260419T222310
CREATED:20230126T213431Z
LAST-MODIFIED:20230126T213431Z
UID:10000475-1803204900-1803209400@brooklinebaptist.church
SUMMARY:Morning Worship
DESCRIPTION:
URL:https://brooklinebaptist.church/event/morning-worship/2027-02-21/
END:VEVENT
BEGIN:VEVENT
DTSTART;TZID=America/Chicago:20270224T190000
DTEND;TZID=America/Chicago:20270224T200000
DTSTAMP:20260419T222310
CREATED:20250730T150047Z
LAST-MODIFIED:20250730T152202Z
UID:10003365-1803495600-1803499200@brooklinebaptist.church
SUMMARY:Youth Meeting
DESCRIPTION:
URL:https://brooklinebaptist.church/event/youth-meeting/2027-02-24/
END:VEVENT
BEGIN:VEVENT
DTSTART;TZID=America/Chicago:20270224T190000
DTEND;TZID=America/Chicago:20270224T200000
DTSTAMP:20260419T222310
CREATED:20250730T152424Z
LAST-MODIFIED:20250730T152424Z
UID:10003642-1803495600-1803499200@brooklinebaptist.church
SUMMARY:Adult Prayer & Bible Study
DESCRIPTION:
URL:https://brooklinebaptist.church/event/adult-prayer-bible-study/2027-02-24/
END:VEVENT
BEGIN:VEVENT
DTSTART;TZID=America/Chicago:20270228T090000
DTEND;TZID=America/Chicago:20270228T100000
DTSTAMP:20260419T222310
CREATED:20230126T211202Z
LAST-MODIFIED:20230126T214753Z
UID:10000215-1803805200-1803808800@brooklinebaptist.church
SUMMARY:Sunday School
DESCRIPTION:
URL:https://brooklinebaptist.church/event/school/2027-02-28/
END:VEVENT
BEGIN:VEVENT
DTSTART;TZID=America/Chicago:20270228T101500
DTEND;TZID=America/Chicago:20270228T113000
DTSTAMP:20260419T222310
CREATED:20230126T213431Z
LAST-MODIFIED:20230126T213431Z
UID:10000476-1803809700-1803814200@brooklinebaptist.church
SUMMARY:Morning Worship
DESCRIPTION:
URL:https://brooklinebaptist.church/event/morning-worship/2027-02-28/
END:VEVENT
BEGIN:VEVENT
DTSTART;TZID=America/Chicago:20270303T190000
DTEND;TZID=America/Chicago:20270303T200000
DTSTAMP:20260419T222310
CREATED:20250730T150047Z
LAST-MODIFIED:20250730T152202Z
UID:10003366-1804100400-1804104000@brooklinebaptist.church
SUMMARY:Youth Meeting
DESCRIPTION:
URL:https://brooklinebaptist.church/event/youth-meeting/2027-03-03/
END:VEVENT
BEGIN:VEVENT
DTSTART;TZID=America/Chicago:20270303T190000
DTEND;TZID=America/Chicago:20270303T200000
DTSTAMP:20260419T222310
CREATED:20250730T152424Z
LAST-MODIFIED:20250730T152424Z
UID:10003643-1804100400-1804104000@brooklinebaptist.church
SUMMARY:Adult Prayer & Bible Study
DESCRIPTION:
URL:https://brooklinebaptist.church/event/adult-prayer-bible-study/2027-03-03/
END:VEVENT
BEGIN:VEVENT
DTSTART;TZID=America/Chicago:20270306T080000
DTEND;TZID=America/Chicago:20270306T090000
DTSTAMP:20260419T222310
CREATED:20240104T171227Z
LAST-MODIFIED:20240104T171228Z
UID:10000894-1804320000-1804323600@brooklinebaptist.church
SUMMARY:Men & Boys Breakfast
DESCRIPTION:Meeting in Family Life Center
URL:https://brooklinebaptist.church/event/men-boys-breakfast-11/2027-03-06/
END:VEVENT
BEGIN:VEVENT
DTSTART;TZID=America/Chicago:20270307T090000
DTEND;TZID=America/Chicago:20270307T100000
DTSTAMP:20260419T222310
CREATED:20230126T211202Z
LAST-MODIFIED:20230126T214753Z
UID:10000216-1804410000-1804413600@brooklinebaptist.church
SUMMARY:Sunday School
DESCRIPTION:
URL:https://brooklinebaptist.church/event/school/2027-03-07/
END:VEVENT
BEGIN:VEVENT
DTSTART;TZID=America/Chicago:20270307T101500
DTEND;TZID=America/Chicago:20270307T113000
DTSTAMP:20260419T222310
CREATED:20230126T213431Z
LAST-MODIFIED:20230126T213431Z
UID:10000477-1804414500-1804419000@brooklinebaptist.church
SUMMARY:Morning Worship
DESCRIPTION:
URL:https://brooklinebaptist.church/event/morning-worship/2027-03-07/
END:VEVENT
BEGIN:VEVENT
DTSTART;TZID=America/Chicago:20270310T190000
DTEND;TZID=America/Chicago:20270310T200000
DTSTAMP:20260419T222310
CREATED:20250730T150047Z
LAST-MODIFIED:20250730T152202Z
UID:10003367-1804705200-1804708800@brooklinebaptist.church
SUMMARY:Youth Meeting
DESCRIPTION:
URL:https://brooklinebaptist.church/event/youth-meeting/2027-03-10/
END:VEVENT
BEGIN:VEVENT
DTSTART;TZID=America/Chicago:20270310T190000
DTEND;TZID=America/Chicago:20270310T200000
DTSTAMP:20260419T222310
CREATED:20250730T152424Z
LAST-MODIFIED:20250730T152424Z
UID:10003644-1804705200-1804708800@brooklinebaptist.church
SUMMARY:Adult Prayer & Bible Study
DESCRIPTION:
URL:https://brooklinebaptist.church/event/adult-prayer-bible-study/2027-03-10/
END:VEVENT
BEGIN:VEVENT
DTSTART;TZID=America/Chicago:20270314T090000
DTEND;TZID=America/Chicago:20270314T100000
DTSTAMP:20260419T222310
CREATED:20230126T211202Z
LAST-MODIFIED:20230126T214753Z
UID:10000217-1805014800-1805018400@brooklinebaptist.church
SUMMARY:Sunday School
DESCRIPTION:
URL:https://brooklinebaptist.church/event/school/2027-03-14/
END:VEVENT
BEGIN:VEVENT
DTSTART;TZID=America/Chicago:20270314T101500
DTEND;TZID=America/Chicago:20270314T113000
DTSTAMP:20260419T222310
CREATED:20230126T213431Z
LAST-MODIFIED:20230126T213431Z
UID:10000478-1805019300-1805023800@brooklinebaptist.church
SUMMARY:Morning Worship
DESCRIPTION:
URL:https://brooklinebaptist.church/event/morning-worship/2027-03-14/
END:VEVENT
BEGIN:VEVENT
DTSTART;TZID=America/Chicago:20270314T140000
DTEND;TZID=America/Chicago:20270314T150000
DTSTAMP:20260419T222310
CREATED:20240919T165435Z
LAST-MODIFIED:20240919T165435Z
UID:10002583-1805032800-1805036400@brooklinebaptist.church
SUMMARY:Republic Nursing Home Ministry
DESCRIPTION:
URL:https://brooklinebaptist.church/event/republic-nursing-home-ministry-2/2027-03-14/
END:VEVENT
BEGIN:VEVENT
DTSTART;TZID=America/Chicago:20270317T190000
DTEND;TZID=America/Chicago:20270317T200000
DTSTAMP:20260419T222310
CREATED:20250730T150047Z
LAST-MODIFIED:20250730T152202Z
UID:10003368-1805310000-1805313600@brooklinebaptist.church
SUMMARY:Youth Meeting
DESCRIPTION:
URL:https://brooklinebaptist.church/event/youth-meeting/2027-03-17/
END:VEVENT
BEGIN:VEVENT
DTSTART;TZID=America/Chicago:20270317T190000
DTEND;TZID=America/Chicago:20270317T200000
DTSTAMP:20260419T222310
CREATED:20250730T152424Z
LAST-MODIFIED:20250730T152424Z
UID:10003645-1805310000-1805313600@brooklinebaptist.church
SUMMARY:Adult Prayer & Bible Study
DESCRIPTION:
URL:https://brooklinebaptist.church/event/adult-prayer-bible-study/2027-03-17/
END:VEVENT
BEGIN:VEVENT
DTSTART;TZID=America/Chicago:20270321T090000
DTEND;TZID=America/Chicago:20270321T100000
DTSTAMP:20260419T222310
CREATED:20230126T211202Z
LAST-MODIFIED:20230126T214753Z
UID:10000218-1805619600-1805623200@brooklinebaptist.church
SUMMARY:Sunday School
DESCRIPTION:
URL:https://brooklinebaptist.church/event/school/2027-03-21/
END:VEVENT
BEGIN:VEVENT
DTSTART;TZID=America/Chicago:20270321T101500
DTEND;TZID=America/Chicago:20270321T113000
DTSTAMP:20260419T222310
CREATED:20230126T213431Z
LAST-MODIFIED:20230126T213431Z
UID:10000479-1805624100-1805628600@brooklinebaptist.church
SUMMARY:Morning Worship
DESCRIPTION:
URL:https://brooklinebaptist.church/event/morning-worship/2027-03-21/
END:VEVENT
BEGIN:VEVENT
DTSTART;TZID=America/Chicago:20270324T190000
DTEND;TZID=America/Chicago:20270324T200000
DTSTAMP:20260419T222310
CREATED:20250730T150047Z
LAST-MODIFIED:20250730T152202Z
UID:10003369-1805914800-1805918400@brooklinebaptist.church
SUMMARY:Youth Meeting
DESCRIPTION:
URL:https://brooklinebaptist.church/event/youth-meeting/2027-03-24/
END:VEVENT
BEGIN:VEVENT
DTSTART;TZID=America/Chicago:20270324T190000
DTEND;TZID=America/Chicago:20270324T200000
DTSTAMP:20260419T222310
CREATED:20250730T152424Z
LAST-MODIFIED:20250730T152424Z
UID:10003646-1805914800-1805918400@brooklinebaptist.church
SUMMARY:Adult Prayer & Bible Study
DESCRIPTION:
URL:https://brooklinebaptist.church/event/adult-prayer-bible-study/2027-03-24/
END:VEVENT
BEGIN:VEVENT
DTSTART;TZID=America/Chicago:20270328T090000
DTEND;TZID=America/Chicago:20270328T100000
DTSTAMP:20260419T222310
CREATED:20230126T211202Z
LAST-MODIFIED:20230126T214753Z
UID:10000219-1806224400-1806228000@brooklinebaptist.church
SUMMARY:Sunday School
DESCRIPTION:
URL:https://brooklinebaptist.church/event/school/2027-03-28/
END:VEVENT
BEGIN:VEVENT
DTSTART;TZID=America/Chicago:20270328T101500
DTEND;TZID=America/Chicago:20270328T113000
DTSTAMP:20260419T222310
CREATED:20230126T213431Z
LAST-MODIFIED:20230126T213431Z
UID:10000480-1806228900-1806233400@brooklinebaptist.church
SUMMARY:Morning Worship
DESCRIPTION:
URL:https://brooklinebaptist.church/event/morning-worship/2027-03-28/
END:VEVENT
BEGIN:VEVENT
DTSTART;TZID=America/Chicago:20270331T190000
DTEND;TZID=America/Chicago:20270331T200000
DTSTAMP:20260419T222310
CREATED:20250730T150047Z
LAST-MODIFIED:20250730T152202Z
UID:10003370-1806519600-1806523200@brooklinebaptist.church
SUMMARY:Youth Meeting
DESCRIPTION:
URL:https://brooklinebaptist.church/event/youth-meeting/2027-03-31/
END:VEVENT
BEGIN:VEVENT
DTSTART;TZID=America/Chicago:20270331T190000
DTEND;TZID=America/Chicago:20270331T200000
DTSTAMP:20260419T222310
CREATED:20250730T152424Z
LAST-MODIFIED:20250730T152424Z
UID:10003647-1806519600-1806523200@brooklinebaptist.church
SUMMARY:Adult Prayer & Bible Study
DESCRIPTION:
URL:https://brooklinebaptist.church/event/adult-prayer-bible-study/2027-03-31/
END:VEVENT
BEGIN:VEVENT
DTSTART;TZID=America/Chicago:20270403T080000
DTEND;TZID=America/Chicago:20270403T090000
DTSTAMP:20260419T222310
CREATED:20240104T171227Z
LAST-MODIFIED:20240104T171228Z
UID:10000895-1806739200-1806742800@brooklinebaptist.church
SUMMARY:Men & Boys Breakfast
DESCRIPTION:Meeting in Family Life Center
URL:https://brooklinebaptist.church/event/men-boys-breakfast-11/2027-04-03/
END:VEVENT
BEGIN:VEVENT
DTSTART;TZID=America/Chicago:20270404T090000
DTEND;TZID=America/Chicago:20270404T100000
DTSTAMP:20260419T222310
CREATED:20230126T211202Z
LAST-MODIFIED:20230126T214753Z
UID:10000220-1806829200-1806832800@brooklinebaptist.church
SUMMARY:Sunday School
DESCRIPTION:
URL:https://brooklinebaptist.church/event/school/2027-04-04/
END:VEVENT
BEGIN:VEVENT
DTSTART;TZID=America/Chicago:20270404T101500
DTEND;TZID=America/Chicago:20270404T113000
DTSTAMP:20260419T222310
CREATED:20230126T213431Z
LAST-MODIFIED:20230126T213431Z
UID:10000481-1806833700-1806838200@brooklinebaptist.church
SUMMARY:Morning Worship
DESCRIPTION:
URL:https://brooklinebaptist.church/event/morning-worship/2027-04-04/
END:VEVENT
BEGIN:VEVENT
DTSTART;TZID=America/Chicago:20270407T190000
DTEND;TZID=America/Chicago:20270407T200000
DTSTAMP:20260419T222310
CREATED:20250730T150047Z
LAST-MODIFIED:20250730T152202Z
UID:10003371-1807124400-1807128000@brooklinebaptist.church
SUMMARY:Youth Meeting
DESCRIPTION:
URL:https://brooklinebaptist.church/event/youth-meeting/2027-04-07/
END:VEVENT
BEGIN:VEVENT
DTSTART;TZID=America/Chicago:20270407T190000
DTEND;TZID=America/Chicago:20270407T200000
DTSTAMP:20260419T222310
CREATED:20250730T152424Z
LAST-MODIFIED:20250730T152424Z
UID:10003648-1807124400-1807128000@brooklinebaptist.church
SUMMARY:Adult Prayer & Bible Study
DESCRIPTION:
URL:https://brooklinebaptist.church/event/adult-prayer-bible-study/2027-04-07/
END:VEVENT
END:VCALENDAR