BEGIN:VCALENDAR
VERSION:2.0
PRODID:-//Brookline Baptist Church - ECPv6.15.20//NONSGML v1.0//EN
CALSCALE:GREGORIAN
METHOD:PUBLISH
X-WR-CALNAME:Brookline Baptist Church
X-ORIGINAL-URL:https://brooklinebaptist.church
X-WR-CALDESC:Events for Brookline Baptist Church
REFRESH-INTERVAL;VALUE=DURATION:PT1H
X-Robots-Tag:noindex
X-PUBLISHED-TTL:PT1H
BEGIN:VTIMEZONE
TZID:America/Chicago
BEGIN:DAYLIGHT
TZOFFSETFROM:-0600
TZOFFSETTO:-0500
TZNAME:CDT
DTSTART:20260308T080000
END:DAYLIGHT
BEGIN:STANDARD
TZOFFSETFROM:-0500
TZOFFSETTO:-0600
TZNAME:CST
DTSTART:20261101T070000
END:STANDARD
BEGIN:DAYLIGHT
TZOFFSETFROM:-0600
TZOFFSETTO:-0500
TZNAME:CDT
DTSTART:20270314T080000
END:DAYLIGHT
BEGIN:STANDARD
TZOFFSETFROM:-0500
TZOFFSETTO:-0600
TZNAME:CST
DTSTART:20271107T070000
END:STANDARD
BEGIN:DAYLIGHT
TZOFFSETFROM:-0600
TZOFFSETTO:-0500
TZNAME:CDT
DTSTART:20280312T080000
END:DAYLIGHT
BEGIN:STANDARD
TZOFFSETFROM:-0500
TZOFFSETTO:-0600
TZNAME:CST
DTSTART:20281105T070000
END:STANDARD
END:VTIMEZONE
BEGIN:VEVENT
DTSTART;TZID=America/Chicago:20270725T090000
DTEND;TZID=America/Chicago:20270725T100000
DTSTAMP:20260421T205323
CREATED:20230126T211202Z
LAST-MODIFIED:20230126T214753Z
UID:10000236-1816506000-1816509600@brooklinebaptist.church
SUMMARY:Sunday School
DESCRIPTION:
URL:https://brooklinebaptist.church/event/school/2027-07-25/
END:VEVENT
BEGIN:VEVENT
DTSTART;TZID=America/Chicago:20270725T101500
DTEND;TZID=America/Chicago:20270725T113000
DTSTAMP:20260421T205323
CREATED:20230126T213431Z
LAST-MODIFIED:20230126T213431Z
UID:10000497-1816510500-1816515000@brooklinebaptist.church
SUMMARY:Morning Worship
DESCRIPTION:
URL:https://brooklinebaptist.church/event/morning-worship/2027-07-25/
END:VEVENT
BEGIN:VEVENT
DTSTART;TZID=America/Chicago:20270728T190000
DTEND;TZID=America/Chicago:20270728T200000
DTSTAMP:20260421T205323
CREATED:20250730T150047Z
LAST-MODIFIED:20250730T152202Z
UID:10003387-1816801200-1816804800@brooklinebaptist.church
SUMMARY:Youth Meeting
DESCRIPTION:
URL:https://brooklinebaptist.church/event/youth-meeting/2027-07-28/
END:VEVENT
BEGIN:VEVENT
DTSTART;TZID=America/Chicago:20270728T190000
DTEND;TZID=America/Chicago:20270728T200000
DTSTAMP:20260421T205323
CREATED:20250730T152424Z
LAST-MODIFIED:20250730T152424Z
UID:10003664-1816801200-1816804800@brooklinebaptist.church
SUMMARY:Adult Prayer & Bible Study
DESCRIPTION:
URL:https://brooklinebaptist.church/event/adult-prayer-bible-study/2027-07-28/
END:VEVENT
BEGIN:VEVENT
DTSTART;TZID=America/Chicago:20270801T090000
DTEND;TZID=America/Chicago:20270801T100000
DTSTAMP:20260421T205323
CREATED:20230126T211202Z
LAST-MODIFIED:20230126T214753Z
UID:10000237-1817110800-1817114400@brooklinebaptist.church
SUMMARY:Sunday School
DESCRIPTION:
URL:https://brooklinebaptist.church/event/school/2027-08-01/
END:VEVENT
BEGIN:VEVENT
DTSTART;TZID=America/Chicago:20270801T101500
DTEND;TZID=America/Chicago:20270801T113000
DTSTAMP:20260421T205323
CREATED:20230126T213431Z
LAST-MODIFIED:20230126T213431Z
UID:10000498-1817115300-1817119800@brooklinebaptist.church
SUMMARY:Morning Worship
DESCRIPTION:
URL:https://brooklinebaptist.church/event/morning-worship/2027-08-01/
END:VEVENT
BEGIN:VEVENT
DTSTART;TZID=America/Chicago:20270804T190000
DTEND;TZID=America/Chicago:20270804T200000
DTSTAMP:20260421T205323
CREATED:20250730T150047Z
LAST-MODIFIED:20250730T152202Z
UID:10003388-1817406000-1817409600@brooklinebaptist.church
SUMMARY:Youth Meeting
DESCRIPTION:
URL:https://brooklinebaptist.church/event/youth-meeting/2027-08-04/
END:VEVENT
BEGIN:VEVENT
DTSTART;TZID=America/Chicago:20270804T190000
DTEND;TZID=America/Chicago:20270804T200000
DTSTAMP:20260421T205323
CREATED:20250730T152424Z
LAST-MODIFIED:20250730T152424Z
UID:10003665-1817406000-1817409600@brooklinebaptist.church
SUMMARY:Adult Prayer & Bible Study
DESCRIPTION:
URL:https://brooklinebaptist.church/event/adult-prayer-bible-study/2027-08-04/
END:VEVENT
BEGIN:VEVENT
DTSTART;TZID=America/Chicago:20270807T080000
DTEND;TZID=America/Chicago:20270807T090000
DTSTAMP:20260421T205323
CREATED:20240104T171227Z
LAST-MODIFIED:20240104T171228Z
UID:10000899-1817625600-1817629200@brooklinebaptist.church
SUMMARY:Men & Boys Breakfast
DESCRIPTION:Meeting in Family Life Center
URL:https://brooklinebaptist.church/event/men-boys-breakfast-11/2027-08-07/
END:VEVENT
BEGIN:VEVENT
DTSTART;TZID=America/Chicago:20270808T090000
DTEND;TZID=America/Chicago:20270808T100000
DTSTAMP:20260421T205323
CREATED:20230126T211202Z
LAST-MODIFIED:20230126T214753Z
UID:10000238-1817715600-1817719200@brooklinebaptist.church
SUMMARY:Sunday School
DESCRIPTION:
URL:https://brooklinebaptist.church/event/school/2027-08-08/
END:VEVENT
BEGIN:VEVENT
DTSTART;TZID=America/Chicago:20270808T101500
DTEND;TZID=America/Chicago:20270808T113000
DTSTAMP:20260421T205323
CREATED:20230126T213431Z
LAST-MODIFIED:20230126T213431Z
UID:10000499-1817720100-1817724600@brooklinebaptist.church
SUMMARY:Morning Worship
DESCRIPTION:
URL:https://brooklinebaptist.church/event/morning-worship/2027-08-08/
END:VEVENT
BEGIN:VEVENT
DTSTART;TZID=America/Chicago:20270808T140000
DTEND;TZID=America/Chicago:20270808T150000
DTSTAMP:20260421T205323
CREATED:20240919T165435Z
LAST-MODIFIED:20240919T165435Z
UID:10002588-1817733600-1817737200@brooklinebaptist.church
SUMMARY:Republic Nursing Home Ministry
DESCRIPTION:
URL:https://brooklinebaptist.church/event/republic-nursing-home-ministry-2/2027-08-08/
END:VEVENT
BEGIN:VEVENT
DTSTART;TZID=America/Chicago:20270811T190000
DTEND;TZID=America/Chicago:20270811T200000
DTSTAMP:20260421T205323
CREATED:20250730T150047Z
LAST-MODIFIED:20250730T152202Z
UID:10003389-1818010800-1818014400@brooklinebaptist.church
SUMMARY:Youth Meeting
DESCRIPTION:
URL:https://brooklinebaptist.church/event/youth-meeting/2027-08-11/
END:VEVENT
BEGIN:VEVENT
DTSTART;TZID=America/Chicago:20270811T190000
DTEND;TZID=America/Chicago:20270811T200000
DTSTAMP:20260421T205323
CREATED:20250730T152424Z
LAST-MODIFIED:20250730T152424Z
UID:10003666-1818010800-1818014400@brooklinebaptist.church
SUMMARY:Adult Prayer & Bible Study
DESCRIPTION:
URL:https://brooklinebaptist.church/event/adult-prayer-bible-study/2027-08-11/
END:VEVENT
BEGIN:VEVENT
DTSTART;TZID=America/Chicago:20270815T090000
DTEND;TZID=America/Chicago:20270815T100000
DTSTAMP:20260421T205323
CREATED:20230126T211202Z
LAST-MODIFIED:20230126T214753Z
UID:10000239-1818320400-1818324000@brooklinebaptist.church
SUMMARY:Sunday School
DESCRIPTION:
URL:https://brooklinebaptist.church/event/school/2027-08-15/
END:VEVENT
BEGIN:VEVENT
DTSTART;TZID=America/Chicago:20270815T101500
DTEND;TZID=America/Chicago:20270815T113000
DTSTAMP:20260421T205323
CREATED:20230126T213431Z
LAST-MODIFIED:20230126T213431Z
UID:10000500-1818324900-1818329400@brooklinebaptist.church
SUMMARY:Morning Worship
DESCRIPTION:
URL:https://brooklinebaptist.church/event/morning-worship/2027-08-15/
END:VEVENT
BEGIN:VEVENT
DTSTART;TZID=America/Chicago:20270818T190000
DTEND;TZID=America/Chicago:20270818T200000
DTSTAMP:20260421T205323
CREATED:20250730T150047Z
LAST-MODIFIED:20250730T152202Z
UID:10003390-1818615600-1818619200@brooklinebaptist.church
SUMMARY:Youth Meeting
DESCRIPTION:
URL:https://brooklinebaptist.church/event/youth-meeting/2027-08-18/
END:VEVENT
BEGIN:VEVENT
DTSTART;TZID=America/Chicago:20270818T190000
DTEND;TZID=America/Chicago:20270818T200000
DTSTAMP:20260421T205323
CREATED:20250730T152424Z
LAST-MODIFIED:20250730T152424Z
UID:10003667-1818615600-1818619200@brooklinebaptist.church
SUMMARY:Adult Prayer & Bible Study
DESCRIPTION:
URL:https://brooklinebaptist.church/event/adult-prayer-bible-study/2027-08-18/
END:VEVENT
BEGIN:VEVENT
DTSTART;TZID=America/Chicago:20270822T090000
DTEND;TZID=America/Chicago:20270822T100000
DTSTAMP:20260421T205323
CREATED:20230126T211202Z
LAST-MODIFIED:20230126T214753Z
UID:10000240-1818925200-1818928800@brooklinebaptist.church
SUMMARY:Sunday School
DESCRIPTION:
URL:https://brooklinebaptist.church/event/school/2027-08-22/
END:VEVENT
BEGIN:VEVENT
DTSTART;TZID=America/Chicago:20270822T101500
DTEND;TZID=America/Chicago:20270822T113000
DTSTAMP:20260421T205323
CREATED:20230126T213431Z
LAST-MODIFIED:20230126T213431Z
UID:10000501-1818929700-1818934200@brooklinebaptist.church
SUMMARY:Morning Worship
DESCRIPTION:
URL:https://brooklinebaptist.church/event/morning-worship/2027-08-22/
END:VEVENT
BEGIN:VEVENT
DTSTART;TZID=America/Chicago:20270825T190000
DTEND;TZID=America/Chicago:20270825T200000
DTSTAMP:20260421T205323
CREATED:20250730T150047Z
LAST-MODIFIED:20250730T152202Z
UID:10003391-1819220400-1819224000@brooklinebaptist.church
SUMMARY:Youth Meeting
DESCRIPTION:
URL:https://brooklinebaptist.church/event/youth-meeting/2027-08-25/
END:VEVENT
BEGIN:VEVENT
DTSTART;TZID=America/Chicago:20270825T190000
DTEND;TZID=America/Chicago:20270825T200000
DTSTAMP:20260421T205323
CREATED:20250730T152424Z
LAST-MODIFIED:20250730T152424Z
UID:10003668-1819220400-1819224000@brooklinebaptist.church
SUMMARY:Adult Prayer & Bible Study
DESCRIPTION:
URL:https://brooklinebaptist.church/event/adult-prayer-bible-study/2027-08-25/
END:VEVENT
BEGIN:VEVENT
DTSTART;TZID=America/Chicago:20270829T090000
DTEND;TZID=America/Chicago:20270829T100000
DTSTAMP:20260421T205323
CREATED:20230126T211202Z
LAST-MODIFIED:20230126T214753Z
UID:10000241-1819530000-1819533600@brooklinebaptist.church
SUMMARY:Sunday School
DESCRIPTION:
URL:https://brooklinebaptist.church/event/school/2027-08-29/
END:VEVENT
BEGIN:VEVENT
DTSTART;TZID=America/Chicago:20270829T101500
DTEND;TZID=America/Chicago:20270829T113000
DTSTAMP:20260421T205323
CREATED:20230126T213431Z
LAST-MODIFIED:20230126T213431Z
UID:10000502-1819534500-1819539000@brooklinebaptist.church
SUMMARY:Morning Worship
DESCRIPTION:
URL:https://brooklinebaptist.church/event/morning-worship/2027-08-29/
END:VEVENT
BEGIN:VEVENT
DTSTART;TZID=America/Chicago:20270901T190000
DTEND;TZID=America/Chicago:20270901T200000
DTSTAMP:20260421T205323
CREATED:20250730T150047Z
LAST-MODIFIED:20250730T152202Z
UID:10003392-1819825200-1819828800@brooklinebaptist.church
SUMMARY:Youth Meeting
DESCRIPTION:
URL:https://brooklinebaptist.church/event/youth-meeting/2027-09-01/
END:VEVENT
BEGIN:VEVENT
DTSTART;TZID=America/Chicago:20270901T190000
DTEND;TZID=America/Chicago:20270901T200000
DTSTAMP:20260421T205323
CREATED:20250730T152424Z
LAST-MODIFIED:20250730T152424Z
UID:10003669-1819825200-1819828800@brooklinebaptist.church
SUMMARY:Adult Prayer & Bible Study
DESCRIPTION:
URL:https://brooklinebaptist.church/event/adult-prayer-bible-study/2027-09-01/
END:VEVENT
BEGIN:VEVENT
DTSTART;TZID=America/Chicago:20270904T080000
DTEND;TZID=America/Chicago:20270904T090000
DTSTAMP:20260421T205323
CREATED:20240104T171227Z
LAST-MODIFIED:20240104T171228Z
UID:10000900-1820044800-1820048400@brooklinebaptist.church
SUMMARY:Men & Boys Breakfast
DESCRIPTION:Meeting in Family Life Center
URL:https://brooklinebaptist.church/event/men-boys-breakfast-11/2027-09-04/
END:VEVENT
BEGIN:VEVENT
DTSTART;TZID=America/Chicago:20270905T090000
DTEND;TZID=America/Chicago:20270905T100000
DTSTAMP:20260421T205323
CREATED:20230126T211202Z
LAST-MODIFIED:20230126T214753Z
UID:10000242-1820134800-1820138400@brooklinebaptist.church
SUMMARY:Sunday School
DESCRIPTION:
URL:https://brooklinebaptist.church/event/school/2027-09-05/
END:VEVENT
BEGIN:VEVENT
DTSTART;TZID=America/Chicago:20270905T101500
DTEND;TZID=America/Chicago:20270905T113000
DTSTAMP:20260421T205323
CREATED:20230126T213431Z
LAST-MODIFIED:20230126T213431Z
UID:10000503-1820139300-1820143800@brooklinebaptist.church
SUMMARY:Morning Worship
DESCRIPTION:
URL:https://brooklinebaptist.church/event/morning-worship/2027-09-05/
END:VEVENT
BEGIN:VEVENT
DTSTART;TZID=America/Chicago:20270908T190000
DTEND;TZID=America/Chicago:20270908T200000
DTSTAMP:20260421T205323
CREATED:20250730T150047Z
LAST-MODIFIED:20250730T152202Z
UID:10003393-1820430000-1820433600@brooklinebaptist.church
SUMMARY:Youth Meeting
DESCRIPTION:
URL:https://brooklinebaptist.church/event/youth-meeting/2027-09-08/
END:VEVENT
END:VCALENDAR