BEGIN:VCALENDAR
VERSION:2.0
PRODID:-//Brookline Baptist Church - ECPv6.15.20//NONSGML v1.0//EN
CALSCALE:GREGORIAN
METHOD:PUBLISH
X-WR-CALNAME:Brookline Baptist Church
X-ORIGINAL-URL:https://brooklinebaptist.church
X-WR-CALDESC:Events for Brookline Baptist Church
REFRESH-INTERVAL;VALUE=DURATION:PT1H
X-Robots-Tag:noindex
X-PUBLISHED-TTL:PT1H
BEGIN:VTIMEZONE
TZID:America/Chicago
BEGIN:DAYLIGHT
TZOFFSETFROM:-0600
TZOFFSETTO:-0500
TZNAME:CDT
DTSTART:20240310T080000
END:DAYLIGHT
BEGIN:STANDARD
TZOFFSETFROM:-0500
TZOFFSETTO:-0600
TZNAME:CST
DTSTART:20241103T070000
END:STANDARD
BEGIN:DAYLIGHT
TZOFFSETFROM:-0600
TZOFFSETTO:-0500
TZNAME:CDT
DTSTART:20250309T080000
END:DAYLIGHT
BEGIN:STANDARD
TZOFFSETFROM:-0500
TZOFFSETTO:-0600
TZNAME:CST
DTSTART:20251102T070000
END:STANDARD
BEGIN:DAYLIGHT
TZOFFSETFROM:-0600
TZOFFSETTO:-0500
TZNAME:CDT
DTSTART:20260308T080000
END:DAYLIGHT
BEGIN:STANDARD
TZOFFSETFROM:-0500
TZOFFSETTO:-0600
TZNAME:CST
DTSTART:20261101T070000
END:STANDARD
END:VTIMEZONE
BEGIN:VEVENT
DTSTART;TZID=America/Chicago:20250821T170000
DTEND;TZID=America/Chicago:20250821T190000
DTSTAMP:20260420T074111
CREATED:20250807T155452Z
LAST-MODIFIED:20250807T155452Z
UID:10003823-1755795600-1755802800@brooklinebaptist.church
SUMMARY:Church Work Day
DESCRIPTION:
URL:https://brooklinebaptist.church/event/church-work-day/2025-08-21/
END:VEVENT
BEGIN:VEVENT
DTSTART;TZID=America/Chicago:20250820T190000
DTEND;TZID=America/Chicago:20250820T200000
DTSTAMP:20260420T074111
CREATED:20250730T152424Z
LAST-MODIFIED:20250730T152424Z
UID:10003563-1755716400-1755720000@brooklinebaptist.church
SUMMARY:Adult Prayer & Bible Study
DESCRIPTION:
URL:https://brooklinebaptist.church/event/adult-prayer-bible-study/2025-08-20/
END:VEVENT
BEGIN:VEVENT
DTSTART;TZID=America/Chicago:20250820T190000
DTEND;TZID=America/Chicago:20250820T200000
DTSTAMP:20260420T074111
CREATED:20250730T150047Z
LAST-MODIFIED:20250730T152202Z
UID:10003546-1755716400-1755720000@brooklinebaptist.church
SUMMARY:Youth Meeting
DESCRIPTION:
URL:https://brooklinebaptist.church/event/youth-meeting/2025-08-20/
END:VEVENT
BEGIN:VEVENT
DTSTART;TZID=America/Chicago:20250820T183000
DTEND;TZID=America/Chicago:20250820T200000
DTSTAMP:20260420T074111
CREATED:20250730T145038Z
LAST-MODIFIED:20250730T145245Z
UID:10003269-1755714600-1755720000@brooklinebaptist.church
SUMMARY:AWANA Kick-Off & Cook-Out
DESCRIPTION:Parents Meeting\, Kids Water Games
URL:https://brooklinebaptist.church/event/awana-kick-off-cook-out/
END:VEVENT
BEGIN:VEVENT
DTSTART;TZID=America/Chicago:20250817T170000
DTEND;TZID=America/Chicago:20250817T180000
DTSTAMP:20260420T074111
CREATED:20241218T152333Z
LAST-MODIFIED:20241218T152333Z
UID:10003052-1755450000-1755453600@brooklinebaptist.church
SUMMARY:Evening Worship
DESCRIPTION:
URL:https://brooklinebaptist.church/event/evening-worship-32/2025-08-17/
END:VEVENT
BEGIN:VEVENT
DTSTART;TZID=America/Chicago:20250817T101500
DTEND;TZID=America/Chicago:20250817T113000
DTSTAMP:20260420T074111
CREATED:20230126T213431Z
LAST-MODIFIED:20230126T213431Z
UID:10000396-1755425700-1755430200@brooklinebaptist.church
SUMMARY:Morning Worship
DESCRIPTION:
URL:https://brooklinebaptist.church/event/morning-worship/2025-08-17/
END:VEVENT
BEGIN:VEVENT
DTSTART;TZID=America/Chicago:20250817T090000
DTEND;TZID=America/Chicago:20250817T100000
DTSTAMP:20260420T074111
CREATED:20230126T211202Z
LAST-MODIFIED:20230126T214753Z
UID:10000135-1755421200-1755424800@brooklinebaptist.church
SUMMARY:Sunday School
DESCRIPTION:
URL:https://brooklinebaptist.church/event/school/2025-08-17/
END:VEVENT
BEGIN:VEVENT
DTSTART;TZID=America/Chicago:20250813T190000
DTEND;TZID=America/Chicago:20250813T200000
DTSTAMP:20260420T074111
CREATED:20250730T152424Z
LAST-MODIFIED:20250730T152424Z
UID:10003562-1755111600-1755115200@brooklinebaptist.church
SUMMARY:Adult Prayer & Bible Study
DESCRIPTION:
URL:https://brooklinebaptist.church/event/adult-prayer-bible-study/2025-08-13/
END:VEVENT
BEGIN:VEVENT
DTSTART;TZID=America/Chicago:20250813T190000
DTEND;TZID=America/Chicago:20250813T200000
DTSTAMP:20260420T074111
CREATED:20250730T150047Z
LAST-MODIFIED:20250730T152202Z
UID:10003545-1755111600-1755115200@brooklinebaptist.church
SUMMARY:Youth Meeting
DESCRIPTION:
URL:https://brooklinebaptist.church/event/youth-meeting/2025-08-13/
END:VEVENT
BEGIN:VEVENT
DTSTART;TZID=America/Chicago:20250810T170000
DTEND;TZID=America/Chicago:20250810T180000
DTSTAMP:20260420T074111
CREATED:20241218T152333Z
LAST-MODIFIED:20241218T152333Z
UID:10003051-1754845200-1754848800@brooklinebaptist.church
SUMMARY:Evening Worship
DESCRIPTION:
URL:https://brooklinebaptist.church/event/evening-worship-32/2025-08-10/
END:VEVENT
BEGIN:VEVENT
DTSTART;TZID=America/Chicago:20250810T140000
DTEND;TZID=America/Chicago:20250810T150000
DTSTAMP:20260420T074111
CREATED:20240919T165435Z
LAST-MODIFIED:20240919T165435Z
UID:10002564-1754834400-1754838000@brooklinebaptist.church
SUMMARY:Republic Nursing Home Ministry
DESCRIPTION:
URL:https://brooklinebaptist.church/event/republic-nursing-home-ministry-2/2025-08-10/
END:VEVENT
BEGIN:VEVENT
DTSTART;TZID=America/Chicago:20250810T101500
DTEND;TZID=America/Chicago:20250810T113000
DTSTAMP:20260420T074111
CREATED:20230126T213431Z
LAST-MODIFIED:20230126T213431Z
UID:10000395-1754820900-1754825400@brooklinebaptist.church
SUMMARY:Morning Worship
DESCRIPTION:
URL:https://brooklinebaptist.church/event/morning-worship/2025-08-10/
END:VEVENT
BEGIN:VEVENT
DTSTART;TZID=America/Chicago:20250810T090000
DTEND;TZID=America/Chicago:20250810T100000
DTSTAMP:20260420T074111
CREATED:20230126T211202Z
LAST-MODIFIED:20230126T214753Z
UID:10000134-1754816400-1754820000@brooklinebaptist.church
SUMMARY:Sunday School
DESCRIPTION:
URL:https://brooklinebaptist.church/event/school/2025-08-10/
END:VEVENT
BEGIN:VEVENT
DTSTART;TZID=America/Chicago:20250806T190000
DTEND;TZID=America/Chicago:20250806T200000
DTSTAMP:20260420T074111
CREATED:20250730T152424Z
LAST-MODIFIED:20250730T152424Z
UID:10003561-1754506800-1754510400@brooklinebaptist.church
SUMMARY:Adult Prayer & Bible Study
DESCRIPTION:
URL:https://brooklinebaptist.church/event/adult-prayer-bible-study/2025-08-06/
END:VEVENT
BEGIN:VEVENT
DTSTART;TZID=America/Chicago:20250806T190000
DTEND;TZID=America/Chicago:20250806T200000
DTSTAMP:20260420T074111
CREATED:20250730T150047Z
LAST-MODIFIED:20250730T152202Z
UID:10003544-1754506800-1754510400@brooklinebaptist.church
SUMMARY:Youth Meeting
DESCRIPTION:
URL:https://brooklinebaptist.church/event/youth-meeting/2025-08-06/
END:VEVENT
BEGIN:VEVENT
DTSTART;TZID=America/Chicago:20250803T170000
DTEND;TZID=America/Chicago:20250803T180000
DTSTAMP:20260420T074111
CREATED:20250730T153021Z
LAST-MODIFIED:20250730T153216Z
UID:10003050-1754240400-1754244000@brooklinebaptist.church
SUMMARY:No Evening Worship
DESCRIPTION:
URL:https://brooklinebaptist.church/event/evening-worship-32-2/
END:VEVENT
BEGIN:VEVENT
DTSTART;TZID=America/Chicago:20250803T113000
DTEND;TZID=America/Chicago:20250803T130000
DTSTAMP:20260420T074111
CREATED:20250730T153629Z
LAST-MODIFIED:20250730T154240Z
UID:10003821-1754220600-1754226000@brooklinebaptist.church
SUMMARY:Potluck Meal & Business Meeting
DESCRIPTION:Potluck meal after morning worship\, business meeting\, no evening service
URL:https://brooklinebaptist.church/event/potluck-meal-business-meeting/
END:VEVENT
BEGIN:VEVENT
DTSTART;TZID=America/Chicago:20250803T101500
DTEND;TZID=America/Chicago:20250803T113000
DTSTAMP:20260420T074111
CREATED:20230126T213431Z
LAST-MODIFIED:20230126T213431Z
UID:10000394-1754216100-1754220600@brooklinebaptist.church
SUMMARY:Morning Worship
DESCRIPTION:
URL:https://brooklinebaptist.church/event/morning-worship/2025-08-03/
END:VEVENT
BEGIN:VEVENT
DTSTART;TZID=America/Chicago:20250803T090000
DTEND;TZID=America/Chicago:20250803T100000
DTSTAMP:20260420T074111
CREATED:20230126T211202Z
LAST-MODIFIED:20230126T214753Z
UID:10000133-1754211600-1754215200@brooklinebaptist.church
SUMMARY:Sunday School
DESCRIPTION:
URL:https://brooklinebaptist.church/event/school/2025-08-03/
END:VEVENT
BEGIN:VEVENT
DTSTART;TZID=America/Chicago:20250802T100000
DTEND;TZID=America/Chicago:20250802T140000
DTSTAMP:20260420T074111
CREATED:20250730T140459Z
LAST-MODIFIED:20250730T140621Z
UID:10003100-1754128800-1754143200@brooklinebaptist.church
SUMMARY:Crafty Sisters
DESCRIPTION:Sewing\, embroidery\, cross stitch\, painting\, knitting\, scrap booking\, craft of your choice\, bring your project\, supplies and a sack lunch and join us.
URL:https://brooklinebaptist.church/event/crafty-sisters-2/2025-08-02/
END:VEVENT
BEGIN:VEVENT
DTSTART;TZID=America/Chicago:20250802T080000
DTEND;TZID=America/Chicago:20250802T090000
DTSTAMP:20260420T074111
CREATED:20240104T171227Z
LAST-MODIFIED:20240104T171228Z
UID:10000875-1754121600-1754125200@brooklinebaptist.church
SUMMARY:Men & Boys Breakfast
DESCRIPTION:Meeting in Family Life Center
URL:https://brooklinebaptist.church/event/men-boys-breakfast-11/2025-08-02/
END:VEVENT
BEGIN:VEVENT
DTSTART;TZID=America/Chicago:20250730T190000
DTEND;TZID=America/Chicago:20250730T200000
DTSTAMP:20260420T074111
CREATED:20250730T152424Z
LAST-MODIFIED:20250730T152424Z
UID:10003560-1753902000-1753905600@brooklinebaptist.church
SUMMARY:Adult Prayer & Bible Study
DESCRIPTION:
URL:https://brooklinebaptist.church/event/adult-prayer-bible-study/2025-07-30/
END:VEVENT
BEGIN:VEVENT
DTSTART;TZID=America/Chicago:20250730T190000
DTEND;TZID=America/Chicago:20250730T200000
DTSTAMP:20260420T074111
CREATED:20250730T150047Z
LAST-MODIFIED:20250730T152202Z
UID:10003283-1753902000-1753905600@brooklinebaptist.church
SUMMARY:Youth Meeting
DESCRIPTION:
URL:https://brooklinebaptist.church/event/youth-meeting/2025-07-30/
END:VEVENT
BEGIN:VEVENT
DTSTART;TZID=America/Chicago:20250727T170000
DTEND;TZID=America/Chicago:20250727T180000
DTSTAMP:20260420T074111
CREATED:20241218T152333Z
LAST-MODIFIED:20241218T152333Z
UID:10003049-1753635600-1753639200@brooklinebaptist.church
SUMMARY:Evening Worship
DESCRIPTION:
URL:https://brooklinebaptist.church/event/evening-worship-32/2025-07-27/
END:VEVENT
BEGIN:VEVENT
DTSTART;TZID=America/Chicago:20250727T101500
DTEND;TZID=America/Chicago:20250727T113000
DTSTAMP:20260420T074111
CREATED:20230126T213431Z
LAST-MODIFIED:20230126T213431Z
UID:10000393-1753611300-1753615800@brooklinebaptist.church
SUMMARY:Morning Worship
DESCRIPTION:
URL:https://brooklinebaptist.church/event/morning-worship/2025-07-27/
END:VEVENT
BEGIN:VEVENT
DTSTART;TZID=America/Chicago:20250727T090000
DTEND;TZID=America/Chicago:20250727T100000
DTSTAMP:20260420T074111
CREATED:20230126T211202Z
LAST-MODIFIED:20230126T214753Z
UID:10000132-1753606800-1753610400@brooklinebaptist.church
SUMMARY:Sunday School
DESCRIPTION:
URL:https://brooklinebaptist.church/event/school/2025-07-27/
END:VEVENT
BEGIN:VEVENT
DTSTART;TZID=America/Chicago:20250720T170000
DTEND;TZID=America/Chicago:20250720T180000
DTSTAMP:20260420T074111
CREATED:20241218T152333Z
LAST-MODIFIED:20241218T152333Z
UID:10003048-1753030800-1753034400@brooklinebaptist.church
SUMMARY:Evening Worship
DESCRIPTION:
URL:https://brooklinebaptist.church/event/evening-worship-32/2025-07-20/
END:VEVENT
BEGIN:VEVENT
DTSTART;TZID=America/Chicago:20250720T101500
DTEND;TZID=America/Chicago:20250720T113000
DTSTAMP:20260420T074111
CREATED:20230126T213431Z
LAST-MODIFIED:20230126T213431Z
UID:10000392-1753006500-1753011000@brooklinebaptist.church
SUMMARY:Morning Worship
DESCRIPTION:
URL:https://brooklinebaptist.church/event/morning-worship/2025-07-20/
END:VEVENT
BEGIN:VEVENT
DTSTART;TZID=America/Chicago:20250720T090000
DTEND;TZID=America/Chicago:20250720T100000
DTSTAMP:20260420T074111
CREATED:20230126T211202Z
LAST-MODIFIED:20230126T214753Z
UID:10000131-1753002000-1753005600@brooklinebaptist.church
SUMMARY:Sunday School
DESCRIPTION:
URL:https://brooklinebaptist.church/event/school/2025-07-20/
END:VEVENT
BEGIN:VEVENT
DTSTART;TZID=America/Chicago:20250713T170000
DTEND;TZID=America/Chicago:20250713T180000
DTSTAMP:20260420T074111
CREATED:20241218T152333Z
LAST-MODIFIED:20241218T152333Z
UID:10003047-1752426000-1752429600@brooklinebaptist.church
SUMMARY:Evening Worship
DESCRIPTION:
URL:https://brooklinebaptist.church/event/evening-worship-32/2025-07-13/
END:VEVENT
END:VCALENDAR