BEGIN:VCALENDAR
VERSION:2.0
PRODID:-//Brookline Baptist Church - ECPv6.15.20//NONSGML v1.0//EN
CALSCALE:GREGORIAN
METHOD:PUBLISH
X-WR-CALNAME:Brookline Baptist Church
X-ORIGINAL-URL:https://brooklinebaptist.church
X-WR-CALDESC:Events for Brookline Baptist Church
REFRESH-INTERVAL;VALUE=DURATION:PT1H
X-Robots-Tag:noindex
X-PUBLISHED-TTL:PT1H
BEGIN:VTIMEZONE
TZID:America/Chicago
BEGIN:DAYLIGHT
TZOFFSETFROM:-0600
TZOFFSETTO:-0500
TZNAME:CDT
DTSTART:20240310T080000
END:DAYLIGHT
BEGIN:STANDARD
TZOFFSETFROM:-0500
TZOFFSETTO:-0600
TZNAME:CST
DTSTART:20241103T070000
END:STANDARD
BEGIN:DAYLIGHT
TZOFFSETFROM:-0600
TZOFFSETTO:-0500
TZNAME:CDT
DTSTART:20250309T080000
END:DAYLIGHT
BEGIN:STANDARD
TZOFFSETFROM:-0500
TZOFFSETTO:-0600
TZNAME:CST
DTSTART:20251102T070000
END:STANDARD
BEGIN:DAYLIGHT
TZOFFSETFROM:-0600
TZOFFSETTO:-0500
TZNAME:CDT
DTSTART:20260308T080000
END:DAYLIGHT
BEGIN:STANDARD
TZOFFSETFROM:-0500
TZOFFSETTO:-0600
TZNAME:CST
DTSTART:20261101T070000
END:STANDARD
END:VTIMEZONE
BEGIN:VEVENT
DTSTART;TZID=America/Chicago:20250928T101500
DTEND;TZID=America/Chicago:20250928T113000
DTSTAMP:20260419T234523
CREATED:20230126T213431Z
LAST-MODIFIED:20230126T213431Z
UID:10000402-1759054500-1759059000@brooklinebaptist.church
SUMMARY:Morning Worship
DESCRIPTION:
URL:https://brooklinebaptist.church/event/morning-worship/2025-09-28/
END:VEVENT
BEGIN:VEVENT
DTSTART;TZID=America/Chicago:20250928T090000
DTEND;TZID=America/Chicago:20250928T100000
DTSTAMP:20260419T234523
CREATED:20230126T211202Z
LAST-MODIFIED:20230126T214753Z
UID:10000141-1759050000-1759053600@brooklinebaptist.church
SUMMARY:Sunday School
DESCRIPTION:
URL:https://brooklinebaptist.church/event/school/2025-09-28/
END:VEVENT
BEGIN:VEVENT
DTSTART;TZID=America/Chicago:20250926T100000
DTEND;TZID=America/Chicago:20250926T120000
DTSTAMP:20260419T234523
CREATED:20250730T134759Z
LAST-MODIFIED:20250730T135140Z
UID:10003103-1758880800-1758888000@brooklinebaptist.church
SUMMARY:Grief Share
DESCRIPTION:
URL:https://brooklinebaptist.church/event/grief-share-5-2/2025-09-26/
END:VEVENT
BEGIN:VEVENT
DTSTART;TZID=America/Chicago:20250924T190000
DTEND;TZID=America/Chicago:20250924T200000
DTSTAMP:20260419T234523
CREATED:20250730T152424Z
LAST-MODIFIED:20250730T152424Z
UID:10003568-1758740400-1758744000@brooklinebaptist.church
SUMMARY:Adult Prayer & Bible Study
DESCRIPTION:
URL:https://brooklinebaptist.church/event/adult-prayer-bible-study/2025-09-24/
END:VEVENT
BEGIN:VEVENT
DTSTART;TZID=America/Chicago:20250924T190000
DTEND;TZID=America/Chicago:20250924T200000
DTSTAMP:20260419T234523
CREATED:20250730T150047Z
LAST-MODIFIED:20250730T152202Z
UID:10003551-1758740400-1758744000@brooklinebaptist.church
SUMMARY:Youth Meeting
DESCRIPTION:
URL:https://brooklinebaptist.church/event/youth-meeting/2025-09-24/
END:VEVENT
BEGIN:VEVENT
DTSTART;TZID=America/Chicago:20250924T183000
DTEND;TZID=America/Chicago:20250924T200000
DTSTAMP:20260419T234523
CREATED:20250730T145459Z
LAST-MODIFIED:20250730T145459Z
UID:10003274-1758738600-1758744000@brooklinebaptist.church
SUMMARY:AWANA 6:30-8 PM
DESCRIPTION:Meal Served at 5:45 PM
URL:https://brooklinebaptist.church/event/awana-630-8-pm/2025-09-24/
END:VEVENT
BEGIN:VEVENT
DTSTART;TZID=America/Chicago:20250921T101500
DTEND;TZID=America/Chicago:20250921T113000
DTSTAMP:20260419T234523
CREATED:20230126T213431Z
LAST-MODIFIED:20230126T213431Z
UID:10000401-1758449700-1758454200@brooklinebaptist.church
SUMMARY:Morning Worship
DESCRIPTION:
URL:https://brooklinebaptist.church/event/morning-worship/2025-09-21/
END:VEVENT
BEGIN:VEVENT
DTSTART;TZID=America/Chicago:20250921T090000
DTEND;TZID=America/Chicago:20250921T100000
DTSTAMP:20260419T234523
CREATED:20230126T211202Z
LAST-MODIFIED:20230126T214753Z
UID:10000140-1758445200-1758448800@brooklinebaptist.church
SUMMARY:Sunday School
DESCRIPTION:
URL:https://brooklinebaptist.church/event/school/2025-09-21/
END:VEVENT
BEGIN:VEVENT
DTSTART;TZID=America/Chicago:20250919T100000
DTEND;TZID=America/Chicago:20250919T120000
DTSTAMP:20260419T234523
CREATED:20250730T134759Z
LAST-MODIFIED:20250730T135140Z
UID:10003102-1758276000-1758283200@brooklinebaptist.church
SUMMARY:Grief Share
DESCRIPTION:
URL:https://brooklinebaptist.church/event/grief-share-5-2/2025-09-19/
END:VEVENT
BEGIN:VEVENT
DTSTART;TZID=America/Chicago:20250918T170000
DTEND;TZID=America/Chicago:20250918T190000
DTSTAMP:20260419T234523
CREATED:20250807T155452Z
LAST-MODIFIED:20250807T155452Z
UID:10003824-1758214800-1758222000@brooklinebaptist.church
SUMMARY:Church Work Day
DESCRIPTION:
URL:https://brooklinebaptist.church/event/church-work-day/2025-09-18/
END:VEVENT
BEGIN:VEVENT
DTSTART;TZID=America/Chicago:20250917T190000
DTEND;TZID=America/Chicago:20250917T200000
DTSTAMP:20260419T234523
CREATED:20250730T152424Z
LAST-MODIFIED:20250730T152424Z
UID:10003567-1758135600-1758139200@brooklinebaptist.church
SUMMARY:Adult Prayer & Bible Study
DESCRIPTION:
URL:https://brooklinebaptist.church/event/adult-prayer-bible-study/2025-09-17/
END:VEVENT
BEGIN:VEVENT
DTSTART;TZID=America/Chicago:20250917T190000
DTEND;TZID=America/Chicago:20250917T200000
DTSTAMP:20260419T234523
CREATED:20250730T150047Z
LAST-MODIFIED:20250730T152202Z
UID:10003550-1758135600-1758139200@brooklinebaptist.church
SUMMARY:Youth Meeting
DESCRIPTION:
URL:https://brooklinebaptist.church/event/youth-meeting/2025-09-17/
END:VEVENT
BEGIN:VEVENT
DTSTART;TZID=America/Chicago:20250917T183000
DTEND;TZID=America/Chicago:20250917T200000
DTSTAMP:20260419T234523
CREATED:20250730T145459Z
LAST-MODIFIED:20250730T145459Z
UID:10003273-1758133800-1758139200@brooklinebaptist.church
SUMMARY:AWANA 6:30-8 PM
DESCRIPTION:Meal Served at 5:45 PM
URL:https://brooklinebaptist.church/event/awana-630-8-pm/2025-09-17/
END:VEVENT
BEGIN:VEVENT
DTSTART;TZID=America/Chicago:20250914T140000
DTEND;TZID=America/Chicago:20250914T150000
DTSTAMP:20260419T234523
CREATED:20240919T165435Z
LAST-MODIFIED:20240919T165435Z
UID:10002565-1757858400-1757862000@brooklinebaptist.church
SUMMARY:Republic Nursing Home Ministry
DESCRIPTION:
URL:https://brooklinebaptist.church/event/republic-nursing-home-ministry-2/2025-09-14/
END:VEVENT
BEGIN:VEVENT
DTSTART;TZID=America/Chicago:20250914T103000
DTEND;TZID=America/Chicago:20250914T113000
DTSTAMP:20260419T234523
CREATED:20250730T155112Z
LAST-MODIFIED:20250730T155112Z
UID:10003822-1757845800-1757849400@brooklinebaptist.church
SUMMARY:Lord's Supper Observed
DESCRIPTION:
URL:https://brooklinebaptist.church/event/lords-supper-observed-8/
END:VEVENT
BEGIN:VEVENT
DTSTART;TZID=America/Chicago:20250914T101500
DTEND;TZID=America/Chicago:20250914T113000
DTSTAMP:20260419T234523
CREATED:20230126T213431Z
LAST-MODIFIED:20230126T213431Z
UID:10000400-1757844900-1757849400@brooklinebaptist.church
SUMMARY:Morning Worship
DESCRIPTION:
URL:https://brooklinebaptist.church/event/morning-worship/2025-09-14/
END:VEVENT
BEGIN:VEVENT
DTSTART;TZID=America/Chicago:20250914T090000
DTEND;TZID=America/Chicago:20250914T100000
DTSTAMP:20260419T234523
CREATED:20230126T211202Z
LAST-MODIFIED:20230126T214753Z
UID:10000139-1757840400-1757844000@brooklinebaptist.church
SUMMARY:Sunday School
DESCRIPTION:
URL:https://brooklinebaptist.church/event/school/2025-09-14/
END:VEVENT
BEGIN:VEVENT
DTSTART;TZID=America/Chicago:20250912T100000
DTEND;TZID=America/Chicago:20250912T120000
DTSTAMP:20260419T234523
CREATED:20250730T134759Z
LAST-MODIFIED:20250730T135140Z
UID:10003101-1757671200-1757678400@brooklinebaptist.church
SUMMARY:Grief Share
DESCRIPTION:
URL:https://brooklinebaptist.church/event/grief-share-5-2/2025-09-12/
END:VEVENT
BEGIN:VEVENT
DTSTART;TZID=America/Chicago:20250910T190000
DTEND;TZID=America/Chicago:20250910T200000
DTSTAMP:20260419T234523
CREATED:20250730T152424Z
LAST-MODIFIED:20250730T152424Z
UID:10003566-1757530800-1757534400@brooklinebaptist.church
SUMMARY:Adult Prayer & Bible Study
DESCRIPTION:
URL:https://brooklinebaptist.church/event/adult-prayer-bible-study/2025-09-10/
END:VEVENT
BEGIN:VEVENT
DTSTART;TZID=America/Chicago:20250910T190000
DTEND;TZID=America/Chicago:20250910T200000
DTSTAMP:20260419T234523
CREATED:20250730T150047Z
LAST-MODIFIED:20250730T152202Z
UID:10003549-1757530800-1757534400@brooklinebaptist.church
SUMMARY:Youth Meeting
DESCRIPTION:
URL:https://brooklinebaptist.church/event/youth-meeting/2025-09-10/
END:VEVENT
BEGIN:VEVENT
DTSTART;TZID=America/Chicago:20250910T183000
DTEND;TZID=America/Chicago:20250910T200000
DTSTAMP:20260419T234523
CREATED:20250730T145459Z
LAST-MODIFIED:20250730T145459Z
UID:10003272-1757529000-1757534400@brooklinebaptist.church
SUMMARY:AWANA 6:30-8 PM
DESCRIPTION:Meal Served at 5:45 PM
URL:https://brooklinebaptist.church/event/awana-630-8-pm/2025-09-10/
END:VEVENT
BEGIN:VEVENT
DTSTART;TZID=America/Chicago:20250907T101500
DTEND;TZID=America/Chicago:20250907T113000
DTSTAMP:20260419T234523
CREATED:20230126T213431Z
LAST-MODIFIED:20230126T213431Z
UID:10000399-1757240100-1757244600@brooklinebaptist.church
SUMMARY:Morning Worship
DESCRIPTION:
URL:https://brooklinebaptist.church/event/morning-worship/2025-09-07/
END:VEVENT
BEGIN:VEVENT
DTSTART;TZID=America/Chicago:20250907T090000
DTEND;TZID=America/Chicago:20250907T100000
DTSTAMP:20260419T234523
CREATED:20230126T211202Z
LAST-MODIFIED:20230126T214753Z
UID:10000138-1757235600-1757239200@brooklinebaptist.church
SUMMARY:Sunday School
DESCRIPTION:
URL:https://brooklinebaptist.church/event/school/2025-09-07/
END:VEVENT
BEGIN:VEVENT
DTSTART;TZID=America/Chicago:20250906T100000
DTEND;TZID=America/Chicago:20250906T140000
DTSTAMP:20260419T234523
CREATED:20250730T140459Z
LAST-MODIFIED:20250730T140621Z
UID:10003112-1757152800-1757167200@brooklinebaptist.church
SUMMARY:Crafty Sisters
DESCRIPTION:Sewing\, embroidery\, cross stitch\, painting\, knitting\, scrap booking\, craft of your choice\, bring your project\, supplies and a sack lunch and join us.
URL:https://brooklinebaptist.church/event/crafty-sisters-2/2025-09-06/
END:VEVENT
BEGIN:VEVENT
DTSTART;TZID=America/Chicago:20250906T080000
DTEND;TZID=America/Chicago:20250906T090000
DTSTAMP:20260419T234523
CREATED:20240104T171227Z
LAST-MODIFIED:20240104T171228Z
UID:10000876-1757145600-1757149200@brooklinebaptist.church
SUMMARY:Men & Boys Breakfast
DESCRIPTION:Meeting in Family Life Center
URL:https://brooklinebaptist.church/event/men-boys-breakfast-11/2025-09-06/
END:VEVENT
BEGIN:VEVENT
DTSTART;TZID=America/Chicago:20250905T100000
DTEND;TZID=America/Chicago:20250905T120000
DTSTAMP:20260419T234523
CREATED:20250730T134759Z
LAST-MODIFIED:20250730T135140Z
UID:10003006-1757066400-1757073600@brooklinebaptist.church
SUMMARY:Grief Share
DESCRIPTION:
URL:https://brooklinebaptist.church/event/grief-share-5-2/2025-09-05/
END:VEVENT
BEGIN:VEVENT
DTSTART;TZID=America/Chicago:20250903T190000
DTEND;TZID=America/Chicago:20250903T200000
DTSTAMP:20260419T234523
CREATED:20250730T152424Z
LAST-MODIFIED:20250730T152424Z
UID:10003565-1756926000-1756929600@brooklinebaptist.church
SUMMARY:Adult Prayer & Bible Study
DESCRIPTION:
URL:https://brooklinebaptist.church/event/adult-prayer-bible-study/2025-09-03/
END:VEVENT
BEGIN:VEVENT
DTSTART;TZID=America/Chicago:20250903T190000
DTEND;TZID=America/Chicago:20250903T200000
DTSTAMP:20260419T234523
CREATED:20250730T150047Z
LAST-MODIFIED:20250730T152202Z
UID:10003548-1756926000-1756929600@brooklinebaptist.church
SUMMARY:Youth Meeting
DESCRIPTION:
URL:https://brooklinebaptist.church/event/youth-meeting/2025-09-03/
END:VEVENT
BEGIN:VEVENT
DTSTART;TZID=America/Chicago:20250903T183000
DTEND;TZID=America/Chicago:20250903T200000
DTSTAMP:20260419T234523
CREATED:20250730T145459Z
LAST-MODIFIED:20250730T145459Z
UID:10003271-1756924200-1756929600@brooklinebaptist.church
SUMMARY:AWANA 6:30-8 PM
DESCRIPTION:Meal Served at 5:45 PM
URL:https://brooklinebaptist.church/event/awana-630-8-pm/2025-09-03/
END:VEVENT
BEGIN:VEVENT
DTSTART;VALUE=DATE:20250901
DTEND;VALUE=DATE:20250902
DTSTAMP:20260419T234523
CREATED:20241212T005357Z
LAST-MODIFIED:20241212T005357Z
UID:10003013-1756684800-1756771199@brooklinebaptist.church
SUMMARY:Labor Day
DESCRIPTION:
URL:https://brooklinebaptist.church/event/labor-day-3/
END:VEVENT
END:VCALENDAR