BEGIN:VCALENDAR
VERSION:2.0
PRODID:-//Brookline Baptist Church - ECPv6.15.20//NONSGML v1.0//EN
CALSCALE:GREGORIAN
METHOD:PUBLISH
X-WR-CALNAME:Brookline Baptist Church
X-ORIGINAL-URL:https://brooklinebaptist.church
X-WR-CALDESC:Events for Brookline Baptist Church
REFRESH-INTERVAL;VALUE=DURATION:PT1H
X-Robots-Tag:noindex
X-PUBLISHED-TTL:PT1H
BEGIN:VTIMEZONE
TZID:America/Chicago
BEGIN:DAYLIGHT
TZOFFSETFROM:-0600
TZOFFSETTO:-0500
TZNAME:CDT
DTSTART:20240310T080000
END:DAYLIGHT
BEGIN:STANDARD
TZOFFSETFROM:-0500
TZOFFSETTO:-0600
TZNAME:CST
DTSTART:20241103T070000
END:STANDARD
BEGIN:DAYLIGHT
TZOFFSETFROM:-0600
TZOFFSETTO:-0500
TZNAME:CDT
DTSTART:20250309T080000
END:DAYLIGHT
BEGIN:STANDARD
TZOFFSETFROM:-0500
TZOFFSETTO:-0600
TZNAME:CST
DTSTART:20251102T070000
END:STANDARD
BEGIN:DAYLIGHT
TZOFFSETFROM:-0600
TZOFFSETTO:-0500
TZNAME:CDT
DTSTART:20260308T080000
END:DAYLIGHT
BEGIN:STANDARD
TZOFFSETFROM:-0500
TZOFFSETTO:-0600
TZNAME:CST
DTSTART:20261101T070000
END:STANDARD
END:VTIMEZONE
BEGIN:VEVENT
DTSTART;TZID=America/Chicago:20250727T101500
DTEND;TZID=America/Chicago:20250727T113000
DTSTAMP:20260420T111609
CREATED:20230126T213431Z
LAST-MODIFIED:20230126T213431Z
UID:10000393-1753611300-1753615800@brooklinebaptist.church
SUMMARY:Morning Worship
DESCRIPTION:
URL:https://brooklinebaptist.church/event/morning-worship/2025-07-27/
END:VEVENT
BEGIN:VEVENT
DTSTART;TZID=America/Chicago:20250727T090000
DTEND;TZID=America/Chicago:20250727T100000
DTSTAMP:20260420T111609
CREATED:20230126T211202Z
LAST-MODIFIED:20230126T214753Z
UID:10000132-1753606800-1753610400@brooklinebaptist.church
SUMMARY:Sunday School
DESCRIPTION:
URL:https://brooklinebaptist.church/event/school/2025-07-27/
END:VEVENT
BEGIN:VEVENT
DTSTART;TZID=America/Chicago:20250720T170000
DTEND;TZID=America/Chicago:20250720T180000
DTSTAMP:20260420T111609
CREATED:20241218T152333Z
LAST-MODIFIED:20241218T152333Z
UID:10003048-1753030800-1753034400@brooklinebaptist.church
SUMMARY:Evening Worship
DESCRIPTION:
URL:https://brooklinebaptist.church/event/evening-worship-32/2025-07-20/
END:VEVENT
BEGIN:VEVENT
DTSTART;TZID=America/Chicago:20250720T101500
DTEND;TZID=America/Chicago:20250720T113000
DTSTAMP:20260420T111609
CREATED:20230126T213431Z
LAST-MODIFIED:20230126T213431Z
UID:10000392-1753006500-1753011000@brooklinebaptist.church
SUMMARY:Morning Worship
DESCRIPTION:
URL:https://brooklinebaptist.church/event/morning-worship/2025-07-20/
END:VEVENT
BEGIN:VEVENT
DTSTART;TZID=America/Chicago:20250720T090000
DTEND;TZID=America/Chicago:20250720T100000
DTSTAMP:20260420T111609
CREATED:20230126T211202Z
LAST-MODIFIED:20230126T214753Z
UID:10000131-1753002000-1753005600@brooklinebaptist.church
SUMMARY:Sunday School
DESCRIPTION:
URL:https://brooklinebaptist.church/event/school/2025-07-20/
END:VEVENT
BEGIN:VEVENT
DTSTART;TZID=America/Chicago:20250713T170000
DTEND;TZID=America/Chicago:20250713T180000
DTSTAMP:20260420T111609
CREATED:20241218T152333Z
LAST-MODIFIED:20241218T152333Z
UID:10003047-1752426000-1752429600@brooklinebaptist.church
SUMMARY:Evening Worship
DESCRIPTION:
URL:https://brooklinebaptist.church/event/evening-worship-32/2025-07-13/
END:VEVENT
BEGIN:VEVENT
DTSTART;TZID=America/Chicago:20250713T140000
DTEND;TZID=America/Chicago:20250713T150000
DTSTAMP:20260420T111609
CREATED:20240919T165435Z
LAST-MODIFIED:20240919T165435Z
UID:10002563-1752415200-1752418800@brooklinebaptist.church
SUMMARY:Republic Nursing Home Ministry
DESCRIPTION:
URL:https://brooklinebaptist.church/event/republic-nursing-home-ministry-2/2025-07-13/
END:VEVENT
BEGIN:VEVENT
DTSTART;TZID=America/Chicago:20250713T101500
DTEND;TZID=America/Chicago:20250713T113000
DTSTAMP:20260420T111609
CREATED:20230126T213431Z
LAST-MODIFIED:20230126T213431Z
UID:10000391-1752401700-1752406200@brooklinebaptist.church
SUMMARY:Morning Worship
DESCRIPTION:
URL:https://brooklinebaptist.church/event/morning-worship/2025-07-13/
END:VEVENT
BEGIN:VEVENT
DTSTART;TZID=America/Chicago:20250713T090000
DTEND;TZID=America/Chicago:20250713T100000
DTSTAMP:20260420T111609
CREATED:20230126T211202Z
LAST-MODIFIED:20230126T214753Z
UID:10000130-1752397200-1752400800@brooklinebaptist.church
SUMMARY:Sunday School
DESCRIPTION:
URL:https://brooklinebaptist.church/event/school/2025-07-13/
END:VEVENT
BEGIN:VEVENT
DTSTART;TZID=America/Chicago:20250706T170000
DTEND;TZID=America/Chicago:20250706T180000
DTSTAMP:20260420T111609
CREATED:20241218T152333Z
LAST-MODIFIED:20241218T152333Z
UID:10003046-1751821200-1751824800@brooklinebaptist.church
SUMMARY:Evening Worship
DESCRIPTION:
URL:https://brooklinebaptist.church/event/evening-worship-32/2025-07-06/
END:VEVENT
BEGIN:VEVENT
DTSTART;TZID=America/Chicago:20250706T101500
DTEND;TZID=America/Chicago:20250706T113000
DTSTAMP:20260420T111609
CREATED:20230126T213431Z
LAST-MODIFIED:20230126T213431Z
UID:10000390-1751796900-1751801400@brooklinebaptist.church
SUMMARY:Morning Worship
DESCRIPTION:
URL:https://brooklinebaptist.church/event/morning-worship/2025-07-06/
END:VEVENT
BEGIN:VEVENT
DTSTART;TZID=America/Chicago:20250706T090000
DTEND;TZID=America/Chicago:20250706T100000
DTSTAMP:20260420T111609
CREATED:20230126T211202Z
LAST-MODIFIED:20230126T214753Z
UID:10000129-1751792400-1751796000@brooklinebaptist.church
SUMMARY:Sunday School
DESCRIPTION:
URL:https://brooklinebaptist.church/event/school/2025-07-06/
END:VEVENT
BEGIN:VEVENT
DTSTART;TZID=America/Chicago:20250705T080000
DTEND;TZID=America/Chicago:20250705T090000
DTSTAMP:20260420T111609
CREATED:20241212T152146Z
LAST-MODIFIED:20250730T141544Z
UID:10000874-1751702400-1751706000@brooklinebaptist.church
SUMMARY:Men & Boys Breakfast
DESCRIPTION:Meeting at Golden Corral South in the months of January & July
URL:https://brooklinebaptist.church/event/men-boys-breakfast-11-3/
END:VEVENT
BEGIN:VEVENT
DTSTART;VALUE=DATE:20250704
DTEND;VALUE=DATE:20250705
DTSTAMP:20260420T111609
CREATED:20241212T005225Z
LAST-MODIFIED:20241212T005225Z
UID:10003012-1751587200-1751673599@brooklinebaptist.church
SUMMARY:Independence Day
DESCRIPTION:
URL:https://brooklinebaptist.church/event/independence-day-3/
END:VEVENT
BEGIN:VEVENT
DTSTART;TZID=America/Chicago:20250629T170000
DTEND;TZID=America/Chicago:20250629T180000
DTSTAMP:20260420T111609
CREATED:20241218T152051Z
LAST-MODIFIED:20241218T152051Z
UID:10003045-1751216400-1751220000@brooklinebaptist.church
SUMMARY:Evening Worship
DESCRIPTION:
URL:https://brooklinebaptist.church/event/evening-worship-31/2025-06-29/
END:VEVENT
BEGIN:VEVENT
DTSTART;TZID=America/Chicago:20250629T101500
DTEND;TZID=America/Chicago:20250629T113000
DTSTAMP:20260420T111609
CREATED:20230126T213431Z
LAST-MODIFIED:20230126T213431Z
UID:10000389-1751192100-1751196600@brooklinebaptist.church
SUMMARY:Morning Worship
DESCRIPTION:
URL:https://brooklinebaptist.church/event/morning-worship/2025-06-29/
END:VEVENT
BEGIN:VEVENT
DTSTART;TZID=America/Chicago:20250629T090000
DTEND;TZID=America/Chicago:20250629T100000
DTSTAMP:20260420T111609
CREATED:20230126T211202Z
LAST-MODIFIED:20230126T214753Z
UID:10000128-1751187600-1751191200@brooklinebaptist.church
SUMMARY:Sunday School
DESCRIPTION:
URL:https://brooklinebaptist.church/event/school/2025-06-29/
END:VEVENT
BEGIN:VEVENT
DTSTART;TZID=America/Chicago:20250622T170000
DTEND;TZID=America/Chicago:20250622T180000
DTSTAMP:20260420T111609
CREATED:20241218T152051Z
LAST-MODIFIED:20241218T152051Z
UID:10003044-1750611600-1750615200@brooklinebaptist.church
SUMMARY:Evening Worship
DESCRIPTION:
URL:https://brooklinebaptist.church/event/evening-worship-31/2025-06-22/
END:VEVENT
BEGIN:VEVENT
DTSTART;TZID=America/Chicago:20250622T101500
DTEND;TZID=America/Chicago:20250622T113000
DTSTAMP:20260420T111609
CREATED:20230126T213431Z
LAST-MODIFIED:20230126T213431Z
UID:10000388-1750587300-1750591800@brooklinebaptist.church
SUMMARY:Morning Worship
DESCRIPTION:
URL:https://brooklinebaptist.church/event/morning-worship/2025-06-22/
END:VEVENT
BEGIN:VEVENT
DTSTART;TZID=America/Chicago:20250622T090000
DTEND;TZID=America/Chicago:20250622T100000
DTSTAMP:20260420T111609
CREATED:20230126T211202Z
LAST-MODIFIED:20230126T214753Z
UID:10000127-1750582800-1750586400@brooklinebaptist.church
SUMMARY:Sunday School
DESCRIPTION:
URL:https://brooklinebaptist.church/event/school/2025-06-22/
END:VEVENT
BEGIN:VEVENT
DTSTART;TZID=America/Chicago:20250615T101500
DTEND;TZID=America/Chicago:20250615T113000
DTSTAMP:20260420T111609
CREATED:20230126T213431Z
LAST-MODIFIED:20230126T213431Z
UID:10000387-1749982500-1749987000@brooklinebaptist.church
SUMMARY:Morning Worship
DESCRIPTION:
URL:https://brooklinebaptist.church/event/morning-worship/2025-06-15/
END:VEVENT
BEGIN:VEVENT
DTSTART;TZID=America/Chicago:20250615T090000
DTEND;TZID=America/Chicago:20250615T100000
DTSTAMP:20260420T111609
CREATED:20230126T211202Z
LAST-MODIFIED:20230126T214753Z
UID:10000126-1749978000-1749981600@brooklinebaptist.church
SUMMARY:Sunday School
DESCRIPTION:
URL:https://brooklinebaptist.church/event/school/2025-06-15/
END:VEVENT
BEGIN:VEVENT
DTSTART;VALUE=DATE:20250615
DTEND;VALUE=DATE:20250616
DTSTAMP:20260420T111609
CREATED:20241212T005118Z
LAST-MODIFIED:20241212T005118Z
UID:10003011-1749945600-1750031999@brooklinebaptist.church
SUMMARY:Father's Day
DESCRIPTION:
URL:https://brooklinebaptist.church/event/fathers-day-3/
END:VEVENT
BEGIN:VEVENT
DTSTART;VALUE=DATE:20250615
DTEND;VALUE=DATE:20250616
DTSTAMP:20260420T111609
CREATED:20241212T004321Z
LAST-MODIFIED:20241212T004321Z
UID:10001450-1749945600-1750031999@brooklinebaptist.church
SUMMARY:No Evening Worship
DESCRIPTION:
URL:https://brooklinebaptist.church/event/evening-worship-24/
END:VEVENT
BEGIN:VEVENT
DTSTART;TZID=America/Chicago:20250614T090000
DTEND;TZID=America/Chicago:20250614T100000
DTSTAMP:20260420T111609
CREATED:20240711T171109Z
LAST-MODIFIED:20240711T171109Z
UID:10001902-1749891600-1749895200@brooklinebaptist.church
SUMMARY:Baptist Women
DESCRIPTION:Meeting second Saturday of the month from 9-10 AM  Praying for missions & Missionaries.  No food served.
URL:https://brooklinebaptist.church/event/baptist-women/2025-06-14/
END:VEVENT
BEGIN:VEVENT
DTSTART;TZID=America/Chicago:20250608T170000
DTEND;TZID=America/Chicago:20250608T180000
DTSTAMP:20260420T111609
CREATED:20241218T151857Z
LAST-MODIFIED:20241218T151857Z
UID:10003043-1749402000-1749405600@brooklinebaptist.church
SUMMARY:Evening Worship
DESCRIPTION:
URL:https://brooklinebaptist.church/event/evening-worship-30/2025-06-08/
END:VEVENT
BEGIN:VEVENT
DTSTART;TZID=America/Chicago:20250608T140000
DTEND;TZID=America/Chicago:20250608T150000
DTSTAMP:20260420T111609
CREATED:20240919T165435Z
LAST-MODIFIED:20240919T165435Z
UID:10002562-1749391200-1749394800@brooklinebaptist.church
SUMMARY:Republic Nursing Home Ministry
DESCRIPTION:
URL:https://brooklinebaptist.church/event/republic-nursing-home-ministry-2/2025-06-08/
END:VEVENT
BEGIN:VEVENT
DTSTART;TZID=America/Chicago:20250608T101500
DTEND;TZID=America/Chicago:20250608T113000
DTSTAMP:20260420T111609
CREATED:20230126T213431Z
LAST-MODIFIED:20230126T213431Z
UID:10000386-1749377700-1749382200@brooklinebaptist.church
SUMMARY:Morning Worship
DESCRIPTION:
URL:https://brooklinebaptist.church/event/morning-worship/2025-06-08/
END:VEVENT
BEGIN:VEVENT
DTSTART;TZID=America/Chicago:20250608T090000
DTEND;TZID=America/Chicago:20250608T100000
DTSTAMP:20260420T111609
CREATED:20230126T211202Z
LAST-MODIFIED:20230126T214753Z
UID:10000125-1749373200-1749376800@brooklinebaptist.church
SUMMARY:Sunday School
DESCRIPTION:
URL:https://brooklinebaptist.church/event/school/2025-06-08/
END:VEVENT
BEGIN:VEVENT
DTSTART;TZID=America/Chicago:20250607T080000
DTEND;TZID=America/Chicago:20250607T090000
DTSTAMP:20260420T111609
CREATED:20240104T171227Z
LAST-MODIFIED:20240104T171228Z
UID:10000873-1749283200-1749286800@brooklinebaptist.church
SUMMARY:Men & Boys Breakfast
DESCRIPTION:Meeting in Family Life Center
URL:https://brooklinebaptist.church/event/men-boys-breakfast-11/2025-06-07/
END:VEVENT
END:VCALENDAR