BEGIN:VCALENDAR
VERSION:2.0
PRODID:-//Brookline Baptist Church - ECPv6.15.20//NONSGML v1.0//EN
CALSCALE:GREGORIAN
METHOD:PUBLISH
X-ORIGINAL-URL:https://brooklinebaptist.church
X-WR-CALDESC:Events for Brookline Baptist Church
REFRESH-INTERVAL;VALUE=DURATION:PT1H
X-Robots-Tag:noindex
X-PUBLISHED-TTL:PT1H
BEGIN:VTIMEZONE
TZID:America/Chicago
BEGIN:DAYLIGHT
TZOFFSETFROM:-0600
TZOFFSETTO:-0500
TZNAME:CDT
DTSTART:20240310T080000
END:DAYLIGHT
BEGIN:STANDARD
TZOFFSETFROM:-0500
TZOFFSETTO:-0600
TZNAME:CST
DTSTART:20241103T070000
END:STANDARD
BEGIN:DAYLIGHT
TZOFFSETFROM:-0600
TZOFFSETTO:-0500
TZNAME:CDT
DTSTART:20250309T080000
END:DAYLIGHT
BEGIN:STANDARD
TZOFFSETFROM:-0500
TZOFFSETTO:-0600
TZNAME:CST
DTSTART:20251102T070000
END:STANDARD
BEGIN:DAYLIGHT
TZOFFSETFROM:-0600
TZOFFSETTO:-0500
TZNAME:CDT
DTSTART:20260308T080000
END:DAYLIGHT
BEGIN:STANDARD
TZOFFSETFROM:-0500
TZOFFSETTO:-0600
TZNAME:CST
DTSTART:20261101T070000
END:STANDARD
END:VTIMEZONE
BEGIN:VEVENT
DTSTART;TZID=America/Chicago:20250504T090000
DTEND;TZID=America/Chicago:20250504T100000
DTSTAMP:20260425T060712
CREATED:20230126T211202Z
LAST-MODIFIED:20230126T214753Z
UID:10000120-1746349200-1746352800@brooklinebaptist.church
SUMMARY:Sunday School
DESCRIPTION:
URL:https://brooklinebaptist.church/event/school/2025-05-04/
END:VEVENT
BEGIN:VEVENT
DTSTART;TZID=America/Chicago:20250504T101500
DTEND;TZID=America/Chicago:20250504T113000
DTSTAMP:20260425T060712
CREATED:20230126T213431Z
LAST-MODIFIED:20230126T213431Z
UID:10000381-1746353700-1746358200@brooklinebaptist.church
SUMMARY:Morning Worship
DESCRIPTION:
URL:https://brooklinebaptist.church/event/morning-worship/2025-05-04/
END:VEVENT
BEGIN:VEVENT
DTSTART;TZID=America/Chicago:20250504T170000
DTEND;TZID=America/Chicago:20250504T180000
DTSTAMP:20260425T060712
CREATED:20241218T151552Z
LAST-MODIFIED:20241218T151552Z
UID:10003040-1746378000-1746381600@brooklinebaptist.church
SUMMARY:Evening Worship
DESCRIPTION:
URL:https://brooklinebaptist.church/event/evening-worship-28/
END:VEVENT
BEGIN:VEVENT
DTSTART;TZID=America/Chicago:20250505T190000
DTEND;TZID=America/Chicago:20250505T200000
DTSTAMP:20260425T060712
CREATED:20240918T162128Z
LAST-MODIFIED:20240918T162128Z
UID:10002551-1746471600-1746475200@brooklinebaptist.church
SUMMARY:Men's Bible Study
DESCRIPTION:
URL:https://brooklinebaptist.church/event/mens-bible-study-2/2025-05-05/
END:VEVENT
BEGIN:VEVENT
DTSTART;TZID=America/Chicago:20250507T183000
DTEND;TZID=America/Chicago:20250507T200000
DTSTAMP:20260425T060712
CREATED:20241211T174938Z
LAST-MODIFIED:20241211T174938Z
UID:10002992-1746642600-1746648000@brooklinebaptist.church
SUMMARY:AWANA 6:30 PM
DESCRIPTION:Meal served at 5:45 PM
URL:https://brooklinebaptist.church/event/awana-630-pm-4/2025-05-07/
END:VEVENT
BEGIN:VEVENT
DTSTART;TZID=America/Chicago:20250510T090000
DTEND;TZID=America/Chicago:20250510T100000
DTSTAMP:20260425T060712
CREATED:20240711T171109Z
LAST-MODIFIED:20240711T171109Z
UID:10001901-1746867600-1746871200@brooklinebaptist.church
SUMMARY:Baptist Women
DESCRIPTION:Meeting second Saturday of the month from 9-10 AM  Praying for missions & Missionaries.  No food served.
URL:https://brooklinebaptist.church/event/baptist-women/2025-05-10/
END:VEVENT
END:VCALENDAR