BEGIN:VCALENDAR
VERSION:2.0
PRODID:-//Brookline Baptist Church - ECPv6.15.20//NONSGML v1.0//EN
CALSCALE:GREGORIAN
METHOD:PUBLISH
X-WR-CALNAME:Brookline Baptist Church
X-ORIGINAL-URL:https://brooklinebaptist.church
X-WR-CALDESC:Events for Brookline Baptist Church
REFRESH-INTERVAL;VALUE=DURATION:PT1H
X-Robots-Tag:noindex
X-PUBLISHED-TTL:PT1H
BEGIN:VTIMEZONE
TZID:America/Chicago
BEGIN:DAYLIGHT
TZOFFSETFROM:-0600
TZOFFSETTO:-0500
TZNAME:CDT
DTSTART:20240310T080000
END:DAYLIGHT
BEGIN:STANDARD
TZOFFSETFROM:-0500
TZOFFSETTO:-0600
TZNAME:CST
DTSTART:20241103T070000
END:STANDARD
BEGIN:DAYLIGHT
TZOFFSETFROM:-0600
TZOFFSETTO:-0500
TZNAME:CDT
DTSTART:20250309T080000
END:DAYLIGHT
BEGIN:STANDARD
TZOFFSETFROM:-0500
TZOFFSETTO:-0600
TZNAME:CST
DTSTART:20251102T070000
END:STANDARD
BEGIN:DAYLIGHT
TZOFFSETFROM:-0600
TZOFFSETTO:-0500
TZNAME:CDT
DTSTART:20260308T080000
END:DAYLIGHT
BEGIN:STANDARD
TZOFFSETFROM:-0500
TZOFFSETTO:-0600
TZNAME:CST
DTSTART:20261101T070000
END:STANDARD
END:VTIMEZONE
BEGIN:VEVENT
DTSTART;TZID=America/Chicago:20250518T090000
DTEND;TZID=America/Chicago:20250518T100000
DTSTAMP:20260425T053809
CREATED:20230126T211202Z
LAST-MODIFIED:20230126T214753Z
UID:10000122-1747558800-1747562400@brooklinebaptist.church
SUMMARY:Sunday School
DESCRIPTION:
URL:https://brooklinebaptist.church/event/school/2025-05-18/
END:VEVENT
BEGIN:VEVENT
DTSTART;TZID=America/Chicago:20250518T101500
DTEND;TZID=America/Chicago:20250518T113000
DTSTAMP:20260425T053809
CREATED:20230126T213431Z
LAST-MODIFIED:20230126T213431Z
UID:10000383-1747563300-1747567800@brooklinebaptist.church
SUMMARY:Morning Worship
DESCRIPTION:
URL:https://brooklinebaptist.church/event/morning-worship/2025-05-18/
END:VEVENT
BEGIN:VEVENT
DTSTART;TZID=America/Chicago:20250518T170000
DTEND;TZID=America/Chicago:20250518T180000
DTSTAMP:20260425T053809
CREATED:20241218T151634Z
LAST-MODIFIED:20241218T151634Z
UID:10003041-1747587600-1747591200@brooklinebaptist.church
SUMMARY:Evening Worship
DESCRIPTION:
URL:https://brooklinebaptist.church/event/evening-worship-29/
END:VEVENT
BEGIN:VEVENT
DTSTART;TZID=America/Chicago:20250519T190000
DTEND;TZID=America/Chicago:20250519T200000
DTSTAMP:20260425T053809
CREATED:20240918T162128Z
LAST-MODIFIED:20240918T162128Z
UID:10002553-1747681200-1747684800@brooklinebaptist.church
SUMMARY:Men's Bible Study
DESCRIPTION:
URL:https://brooklinebaptist.church/event/mens-bible-study-2/2025-05-19/
END:VEVENT
BEGIN:VEVENT
DTSTART;TZID=America/Chicago:20250521T183000
DTEND;TZID=America/Chicago:20250521T200000
DTSTAMP:20260425T053809
CREATED:20241211T175303Z
LAST-MODIFIED:20241211T175303Z
UID:10002994-1747852200-1747857600@brooklinebaptist.church
SUMMARY:AWANA Awards Night 6:30 PM
DESCRIPTION:Final night\, Meal served at 5:45 PM
URL:https://brooklinebaptist.church/event/awana-630-pm-4-3/
END:VEVENT
END:VCALENDAR