BEGIN:VCALENDAR
VERSION:2.0
PRODID:-//Brookline Baptist Church - ECPv6.15.20//NONSGML v1.0//EN
CALSCALE:GREGORIAN
METHOD:PUBLISH
X-ORIGINAL-URL:https://brooklinebaptist.church
X-WR-CALDESC:Events for Brookline Baptist Church
REFRESH-INTERVAL;VALUE=DURATION:PT1H
X-Robots-Tag:noindex
X-PUBLISHED-TTL:PT1H
BEGIN:VTIMEZONE
TZID:America/Chicago
BEGIN:DAYLIGHT
TZOFFSETFROM:-0600
TZOFFSETTO:-0500
TZNAME:CDT
DTSTART:20240310T080000
END:DAYLIGHT
BEGIN:STANDARD
TZOFFSETFROM:-0500
TZOFFSETTO:-0600
TZNAME:CST
DTSTART:20241103T070000
END:STANDARD
BEGIN:DAYLIGHT
TZOFFSETFROM:-0600
TZOFFSETTO:-0500
TZNAME:CDT
DTSTART:20250309T080000
END:DAYLIGHT
BEGIN:STANDARD
TZOFFSETFROM:-0500
TZOFFSETTO:-0600
TZNAME:CST
DTSTART:20251102T070000
END:STANDARD
BEGIN:DAYLIGHT
TZOFFSETFROM:-0600
TZOFFSETTO:-0500
TZNAME:CDT
DTSTART:20260308T080000
END:DAYLIGHT
BEGIN:STANDARD
TZOFFSETFROM:-0500
TZOFFSETTO:-0600
TZNAME:CST
DTSTART:20261101T070000
END:STANDARD
END:VTIMEZONE
BEGIN:VEVENT
DTSTART;VALUE=DATE:20250525
DTEND;VALUE=DATE:20250526
DTSTAMP:20260425T074605
CREATED:20241211T175541Z
LAST-MODIFIED:20241212T004222Z
UID:10001447-1748131200-1748217599@brooklinebaptist.church
SUMMARY:No Evening Worship
DESCRIPTION:
URL:https://brooklinebaptist.church/event/evening-worship-21/
END:VEVENT
BEGIN:VEVENT
DTSTART;TZID=America/Chicago:20250525T090000
DTEND;TZID=America/Chicago:20250525T100000
DTSTAMP:20260425T074605
CREATED:20230126T211202Z
LAST-MODIFIED:20230126T214753Z
UID:10000123-1748163600-1748167200@brooklinebaptist.church
SUMMARY:Sunday School
DESCRIPTION:
URL:https://brooklinebaptist.church/event/school/2025-05-25/
END:VEVENT
BEGIN:VEVENT
DTSTART;TZID=America/Chicago:20250525T101500
DTEND;TZID=America/Chicago:20250525T113000
DTSTAMP:20260425T074605
CREATED:20230126T213431Z
LAST-MODIFIED:20230126T213431Z
UID:10000384-1748168100-1748172600@brooklinebaptist.church
SUMMARY:Morning Worship
DESCRIPTION:
URL:https://brooklinebaptist.church/event/morning-worship/2025-05-25/
END:VEVENT
BEGIN:VEVENT
DTSTART;VALUE=DATE:20250526
DTEND;VALUE=DATE:20250527
DTSTAMP:20260425T074605
CREATED:20241212T005028Z
LAST-MODIFIED:20241212T005028Z
UID:10003010-1748217600-1748303999@brooklinebaptist.church
SUMMARY:Memorial Day
DESCRIPTION:
URL:https://brooklinebaptist.church/event/memorial-day-3/
END:VEVENT
BEGIN:VEVENT
DTSTART;TZID=America/Chicago:20250530T100000
DTEND;TZID=America/Chicago:20250530T120000
DTSTAMP:20260425T074605
CREATED:20241211T180831Z
LAST-MODIFIED:20241211T180831Z
UID:10003005-1748599200-1748606400@brooklinebaptist.church
SUMMARY:Grief Share
DESCRIPTION:
URL:https://brooklinebaptist.church/event/grief-share-5/2025-05-30/
END:VEVENT
END:VCALENDAR