BEGIN:VCALENDAR
VERSION:2.0
PRODID:-//Brookline Baptist Church - ECPv6.15.20//NONSGML v1.0//EN
CALSCALE:GREGORIAN
METHOD:PUBLISH
X-ORIGINAL-URL:https://brooklinebaptist.church
X-WR-CALDESC:Events for Brookline Baptist Church
REFRESH-INTERVAL;VALUE=DURATION:PT1H
X-Robots-Tag:noindex
X-PUBLISHED-TTL:PT1H
BEGIN:VTIMEZONE
TZID:America/Chicago
BEGIN:DAYLIGHT
TZOFFSETFROM:-0600
TZOFFSETTO:-0500
TZNAME:CDT
DTSTART:20240310T080000
END:DAYLIGHT
BEGIN:STANDARD
TZOFFSETFROM:-0500
TZOFFSETTO:-0600
TZNAME:CST
DTSTART:20241103T070000
END:STANDARD
BEGIN:DAYLIGHT
TZOFFSETFROM:-0600
TZOFFSETTO:-0500
TZNAME:CDT
DTSTART:20250309T080000
END:DAYLIGHT
BEGIN:STANDARD
TZOFFSETFROM:-0500
TZOFFSETTO:-0600
TZNAME:CST
DTSTART:20251102T070000
END:STANDARD
BEGIN:DAYLIGHT
TZOFFSETFROM:-0600
TZOFFSETTO:-0500
TZNAME:CDT
DTSTART:20260308T080000
END:DAYLIGHT
BEGIN:STANDARD
TZOFFSETFROM:-0500
TZOFFSETTO:-0600
TZNAME:CST
DTSTART:20261101T070000
END:STANDARD
END:VTIMEZONE
BEGIN:VEVENT
DTSTART;TZID=America/Chicago:20250727T090000
DTEND;TZID=America/Chicago:20250727T100000
DTSTAMP:20260423T060538
CREATED:20230126T211202Z
LAST-MODIFIED:20230126T214753Z
UID:10000132-1753606800-1753610400@brooklinebaptist.church
SUMMARY:Sunday School
DESCRIPTION:
URL:https://brooklinebaptist.church/event/school/2025-07-27/
END:VEVENT
BEGIN:VEVENT
DTSTART;TZID=America/Chicago:20250727T101500
DTEND;TZID=America/Chicago:20250727T113000
DTSTAMP:20260423T060538
CREATED:20230126T213431Z
LAST-MODIFIED:20230126T213431Z
UID:10000393-1753611300-1753615800@brooklinebaptist.church
SUMMARY:Morning Worship
DESCRIPTION:
URL:https://brooklinebaptist.church/event/morning-worship/2025-07-27/
END:VEVENT
BEGIN:VEVENT
DTSTART;TZID=America/Chicago:20250727T170000
DTEND;TZID=America/Chicago:20250727T180000
DTSTAMP:20260423T060538
CREATED:20241218T152333Z
LAST-MODIFIED:20241218T152333Z
UID:10003049-1753635600-1753639200@brooklinebaptist.church
SUMMARY:Evening Worship
DESCRIPTION:
URL:https://brooklinebaptist.church/event/evening-worship-32/2025-07-27/
END:VEVENT
BEGIN:VEVENT
DTSTART;TZID=America/Chicago:20250730T190000
DTEND;TZID=America/Chicago:20250730T200000
DTSTAMP:20260423T060538
CREATED:20250730T150047Z
LAST-MODIFIED:20250730T152202Z
UID:10003283-1753902000-1753905600@brooklinebaptist.church
SUMMARY:Youth Meeting
DESCRIPTION:
URL:https://brooklinebaptist.church/event/youth-meeting/2025-07-30/
END:VEVENT
BEGIN:VEVENT
DTSTART;TZID=America/Chicago:20250730T190000
DTEND;TZID=America/Chicago:20250730T200000
DTSTAMP:20260423T060538
CREATED:20250730T152424Z
LAST-MODIFIED:20250730T152424Z
UID:10003560-1753902000-1753905600@brooklinebaptist.church
SUMMARY:Adult Prayer & Bible Study
DESCRIPTION:
URL:https://brooklinebaptist.church/event/adult-prayer-bible-study/2025-07-30/
END:VEVENT
BEGIN:VEVENT
DTSTART;TZID=America/Chicago:20250802T080000
DTEND;TZID=America/Chicago:20250802T090000
DTSTAMP:20260423T060538
CREATED:20240104T171227Z
LAST-MODIFIED:20240104T171228Z
UID:10000875-1754121600-1754125200@brooklinebaptist.church
SUMMARY:Men & Boys Breakfast
DESCRIPTION:Meeting in Family Life Center
URL:https://brooklinebaptist.church/event/men-boys-breakfast-11/2025-08-02/
END:VEVENT
BEGIN:VEVENT
DTSTART;TZID=America/Chicago:20250802T100000
DTEND;TZID=America/Chicago:20250802T140000
DTSTAMP:20260423T060538
CREATED:20250730T140459Z
LAST-MODIFIED:20250730T140621Z
UID:10003100-1754128800-1754143200@brooklinebaptist.church
SUMMARY:Crafty Sisters
DESCRIPTION:Sewing\, embroidery\, cross stitch\, painting\, knitting\, scrap booking\, craft of your choice\, bring your project\, supplies and a sack lunch and join us.
URL:https://brooklinebaptist.church/event/crafty-sisters-2/2025-08-02/
END:VEVENT
END:VCALENDAR