BEGIN:VCALENDAR
VERSION:2.0
PRODID:-//Brookline Baptist Church - ECPv6.15.20//NONSGML v1.0//EN
CALSCALE:GREGORIAN
METHOD:PUBLISH
X-WR-CALNAME:Brookline Baptist Church
X-ORIGINAL-URL:https://brooklinebaptist.church
X-WR-CALDESC:Events for Brookline Baptist Church
REFRESH-INTERVAL;VALUE=DURATION:PT1H
X-Robots-Tag:noindex
X-PUBLISHED-TTL:PT1H
BEGIN:VTIMEZONE
TZID:America/Chicago
BEGIN:DAYLIGHT
TZOFFSETFROM:-0600
TZOFFSETTO:-0500
TZNAME:CDT
DTSTART:20260308T080000
END:DAYLIGHT
BEGIN:STANDARD
TZOFFSETFROM:-0500
TZOFFSETTO:-0600
TZNAME:CST
DTSTART:20261101T070000
END:STANDARD
BEGIN:DAYLIGHT
TZOFFSETFROM:-0600
TZOFFSETTO:-0500
TZNAME:CDT
DTSTART:20270314T080000
END:DAYLIGHT
BEGIN:STANDARD
TZOFFSETFROM:-0500
TZOFFSETTO:-0600
TZNAME:CST
DTSTART:20271107T070000
END:STANDARD
BEGIN:DAYLIGHT
TZOFFSETFROM:-0600
TZOFFSETTO:-0500
TZNAME:CDT
DTSTART:20280312T080000
END:DAYLIGHT
BEGIN:STANDARD
TZOFFSETFROM:-0500
TZOFFSETTO:-0600
TZNAME:CST
DTSTART:20281105T070000
END:STANDARD
END:VTIMEZONE
BEGIN:VEVENT
DTSTART;TZID=America/Chicago:20270110T090000
DTEND;TZID=America/Chicago:20270110T100000
DTSTAMP:20260420T223737
CREATED:20230126T211202Z
LAST-MODIFIED:20230126T214753Z
UID:10000208-1799571600-1799575200@brooklinebaptist.church
SUMMARY:Sunday School
DESCRIPTION:
URL:https://brooklinebaptist.church/event/school/2027-01-10/
END:VEVENT
BEGIN:VEVENT
DTSTART;TZID=America/Chicago:20270110T101500
DTEND;TZID=America/Chicago:20270110T113000
DTSTAMP:20260420T223737
CREATED:20230126T213431Z
LAST-MODIFIED:20230126T213431Z
UID:10000469-1799576100-1799580600@brooklinebaptist.church
SUMMARY:Morning Worship
DESCRIPTION:
URL:https://brooklinebaptist.church/event/morning-worship/2027-01-10/
END:VEVENT
BEGIN:VEVENT
DTSTART;TZID=America/Chicago:20270110T140000
DTEND;TZID=America/Chicago:20270110T150000
DTSTAMP:20260420T223737
CREATED:20240919T165435Z
LAST-MODIFIED:20240919T165435Z
UID:10002581-1799589600-1799593200@brooklinebaptist.church
SUMMARY:Republic Nursing Home Ministry
DESCRIPTION:
URL:https://brooklinebaptist.church/event/republic-nursing-home-ministry-2/2027-01-10/
END:VEVENT
BEGIN:VEVENT
DTSTART;TZID=America/Chicago:20270113T190000
DTEND;TZID=America/Chicago:20270113T200000
DTSTAMP:20260420T223737
CREATED:20250730T150047Z
LAST-MODIFIED:20250730T152202Z
UID:10003359-1799866800-1799870400@brooklinebaptist.church
SUMMARY:Youth Meeting
DESCRIPTION:
URL:https://brooklinebaptist.church/event/youth-meeting/2027-01-13/
END:VEVENT
BEGIN:VEVENT
DTSTART;TZID=America/Chicago:20270113T190000
DTEND;TZID=America/Chicago:20270113T200000
DTSTAMP:20260420T223737
CREATED:20250730T152424Z
LAST-MODIFIED:20250730T152424Z
UID:10003636-1799866800-1799870400@brooklinebaptist.church
SUMMARY:Adult Prayer & Bible Study
DESCRIPTION:
URL:https://brooklinebaptist.church/event/adult-prayer-bible-study/2027-01-13/
END:VEVENT
END:VCALENDAR