BEGIN:VCALENDAR
VERSION:2.0
PRODID:-//Brookline Baptist Church - ECPv6.15.20//NONSGML v1.0//EN
CALSCALE:GREGORIAN
METHOD:PUBLISH
X-WR-CALNAME:Brookline Baptist Church
X-ORIGINAL-URL:https://brooklinebaptist.church
X-WR-CALDESC:Events for Brookline Baptist Church
REFRESH-INTERVAL;VALUE=DURATION:PT1H
X-Robots-Tag:noindex
X-PUBLISHED-TTL:PT1H
BEGIN:VTIMEZONE
TZID:America/Chicago
BEGIN:DAYLIGHT
TZOFFSETFROM:-0600
TZOFFSETTO:-0500
TZNAME:CDT
DTSTART:20260308T080000
END:DAYLIGHT
BEGIN:STANDARD
TZOFFSETFROM:-0500
TZOFFSETTO:-0600
TZNAME:CST
DTSTART:20261101T070000
END:STANDARD
BEGIN:DAYLIGHT
TZOFFSETFROM:-0600
TZOFFSETTO:-0500
TZNAME:CDT
DTSTART:20270314T080000
END:DAYLIGHT
BEGIN:STANDARD
TZOFFSETFROM:-0500
TZOFFSETTO:-0600
TZNAME:CST
DTSTART:20271107T070000
END:STANDARD
BEGIN:DAYLIGHT
TZOFFSETFROM:-0600
TZOFFSETTO:-0500
TZNAME:CDT
DTSTART:20280312T080000
END:DAYLIGHT
BEGIN:STANDARD
TZOFFSETFROM:-0500
TZOFFSETTO:-0600
TZNAME:CST
DTSTART:20281105T070000
END:STANDARD
END:VTIMEZONE
BEGIN:VEVENT
DTSTART;TZID=America/Chicago:20270627T090000
DTEND;TZID=America/Chicago:20270627T100000
DTSTAMP:20260425T074036
CREATED:20230126T211202Z
LAST-MODIFIED:20230126T214753Z
UID:10000232-1814086800-1814090400@brooklinebaptist.church
SUMMARY:Sunday School
DESCRIPTION:
URL:https://brooklinebaptist.church/event/school/2027-06-27/
END:VEVENT
BEGIN:VEVENT
DTSTART;TZID=America/Chicago:20270627T101500
DTEND;TZID=America/Chicago:20270627T113000
DTSTAMP:20260425T074036
CREATED:20230126T213431Z
LAST-MODIFIED:20230126T213431Z
UID:10000493-1814091300-1814095800@brooklinebaptist.church
SUMMARY:Morning Worship
DESCRIPTION:
URL:https://brooklinebaptist.church/event/morning-worship/2027-06-27/
END:VEVENT
BEGIN:VEVENT
DTSTART;TZID=America/Chicago:20270630T190000
DTEND;TZID=America/Chicago:20270630T200000
DTSTAMP:20260425T074036
CREATED:20250730T150047Z
LAST-MODIFIED:20250730T152202Z
UID:10003383-1814382000-1814385600@brooklinebaptist.church
SUMMARY:Youth Meeting
DESCRIPTION:
URL:https://brooklinebaptist.church/event/youth-meeting/2027-06-30/
END:VEVENT
BEGIN:VEVENT
DTSTART;TZID=America/Chicago:20270630T190000
DTEND;TZID=America/Chicago:20270630T200000
DTSTAMP:20260425T074036
CREATED:20250730T152424Z
LAST-MODIFIED:20250730T152424Z
UID:10003660-1814382000-1814385600@brooklinebaptist.church
SUMMARY:Adult Prayer & Bible Study
DESCRIPTION:
URL:https://brooklinebaptist.church/event/adult-prayer-bible-study/2027-06-30/
END:VEVENT
BEGIN:VEVENT
DTSTART;TZID=America/Chicago:20270703T080000
DTEND;TZID=America/Chicago:20270703T090000
DTSTAMP:20260425T074036
CREATED:20240104T171227Z
LAST-MODIFIED:20240104T171228Z
UID:10000898-1814601600-1814605200@brooklinebaptist.church
SUMMARY:Men & Boys Breakfast
DESCRIPTION:Meeting in Family Life Center
URL:https://brooklinebaptist.church/event/men-boys-breakfast-11/2027-07-03/
END:VEVENT
END:VCALENDAR